BEGIN:VCALENDAR
VERSION:2.0
PRODID:-//Prince of Peace Lutheran Church Eagle River - ECPv6.15.20//NONSGML v1.0//EN
CALSCALE:GREGORIAN
METHOD:PUBLISH
X-WR-CALNAME:Prince of Peace Lutheran Church Eagle River
X-ORIGINAL-URL:https://princeofpeace-er.org
X-WR-CALDESC:Events for Prince of Peace Lutheran Church Eagle River
REFRESH-INTERVAL;VALUE=DURATION:PT1H
X-Robots-Tag:noindex
X-PUBLISHED-TTL:PT1H
BEGIN:VTIMEZONE
TZID:America/Chicago
BEGIN:DAYLIGHT
TZOFFSETFROM:-0600
TZOFFSETTO:-0500
TZNAME:CDT
DTSTART:20230312T080000
END:DAYLIGHT
BEGIN:STANDARD
TZOFFSETFROM:-0500
TZOFFSETTO:-0600
TZNAME:CST
DTSTART:20231105T070000
END:STANDARD
BEGIN:DAYLIGHT
TZOFFSETFROM:-0600
TZOFFSETTO:-0500
TZNAME:CDT
DTSTART:20240310T080000
END:DAYLIGHT
BEGIN:STANDARD
TZOFFSETFROM:-0500
TZOFFSETTO:-0600
TZNAME:CST
DTSTART:20241103T070000
END:STANDARD
BEGIN:DAYLIGHT
TZOFFSETFROM:-0600
TZOFFSETTO:-0500
TZNAME:CDT
DTSTART:20250309T080000
END:DAYLIGHT
BEGIN:STANDARD
TZOFFSETFROM:-0500
TZOFFSETTO:-0600
TZNAME:CST
DTSTART:20251102T070000
END:STANDARD
END:VTIMEZONE
BEGIN:VEVENT
DTSTART;TZID=America/Chicago:20241215T160000
DTEND;TZID=America/Chicago:20241215T170000
DTSTAMP:20260423T133358
CREATED:20241120T174108Z
LAST-MODIFIED:20241120T174108Z
UID:10000093-1734278400-1734282000@princeofpeace-er.org
SUMMARY:Northwoods Singers
DESCRIPTION:Join the Northwoods Singers as they ring in the holidays with song!
URL:https://princeofpeace-er.org/event/northwoods-singers/
LOCATION:Prince of Peace\, 5030 Hwy 70 W\, Eagle River\, WI\, 54521
END:VEVENT
BEGIN:VEVENT
DTSTART;TZID=America/Chicago:20241215T090000
DTEND;TZID=America/Chicago:20241215T100000
DTSTAMP:20260423T133358
CREATED:20241120T174244Z
LAST-MODIFIED:20241120T174244Z
UID:10000094-1734253200-1734256800@princeofpeace-er.org
SUMMARY:No Rehearsal Christmas Program
DESCRIPTION:It is our “No Rehearsal” Christmas Program.  Come enjoy the fun and joy of our celebration of Christmas.   Worship will be followed by Christmas Cookies in the Fellowship Hall.
URL:https://princeofpeace-er.org/event/no-rehearsal-christmas-program/
LOCATION:Prince of Peace\, 5030 Hwy 70 W\, Eagle River\, WI\, 54521
END:VEVENT
BEGIN:VEVENT
DTSTART;TZID=America/Chicago:20241215T090000
DTEND;TZID=America/Chicago:20241215T090000
DTSTAMP:20260423T133358
CREATED:20240904T191323Z
LAST-MODIFIED:20240904T191323Z
UID:10000019-1734253200-1734253200@princeofpeace-er.org
SUMMARY:Sunday Worship Service
DESCRIPTION:We have in-person worship on Sundays at 9:00 AM. Communion is available. \nServices are livestreamed on Facebook with an edited version uploaded later in the week.
URL:https://princeofpeace-er.org/event/sunday-worship-service/2024-12-15/
LOCATION:Prince of Peace\, 5030 Hwy 70 W\, Eagle River\, WI\, 54521
END:VEVENT
BEGIN:VEVENT
DTSTART;TZID=America/Chicago:20241211T173000
DTEND;TZID=America/Chicago:20241211T183000
DTSTAMP:20260423T133358
CREATED:20241120T173723Z
LAST-MODIFIED:20241120T173723Z
UID:10000089-1733938200-1733941800@princeofpeace-er.org
SUMMARY:Advent Meal/Holden Evening Prayer Service
DESCRIPTION:We will be serving soup at 5:30 pm with a Holden Evening Prayer Service to follow at 6:00 pm.
URL:https://princeofpeace-er.org/event/advent-meal-holden-evening-prayer-service/2024-12-11/
LOCATION:Prince of Peace\, 5030 Hwy 70 W\, Eagle River\, WI\, 54521
END:VEVENT
BEGIN:VEVENT
DTSTART;TZID=America/Chicago:20241211T163000
DTEND;TZID=America/Chicago:20241211T173000
DTSTAMP:20260423T133358
CREATED:20241120T173547Z
LAST-MODIFIED:20241120T173547Z
UID:10000086-1733934600-1733938200@princeofpeace-er.org
SUMMARY:Choir Practice
DESCRIPTION:Come on – come all – come join us for choir practice for our Christmas service.
URL:https://princeofpeace-er.org/event/choir-practice/2024-12-11/
LOCATION:Prince of Peace\, 5030 Hwy 70 W\, Eagle River\, WI\, 54521
END:VEVENT
BEGIN:VEVENT
DTSTART;TZID=America/Chicago:20241208T090000
DTEND;TZID=America/Chicago:20241208T090000
DTSTAMP:20260423T133358
CREATED:20240904T191323Z
LAST-MODIFIED:20240904T191323Z
UID:10000018-1733648400-1733648400@princeofpeace-er.org
SUMMARY:Sunday Worship Service
DESCRIPTION:We have in-person worship on Sundays at 9:00 AM. Communion is available. \nServices are livestreamed on Facebook with an edited version uploaded later in the week.
URL:https://princeofpeace-er.org/event/sunday-worship-service/2024-12-08/
LOCATION:Prince of Peace\, 5030 Hwy 70 W\, Eagle River\, WI\, 54521
END:VEVENT
BEGIN:VEVENT
DTSTART;TZID=America/Chicago:20241204T173000
DTEND;TZID=America/Chicago:20241204T183000
DTSTAMP:20260423T133358
CREATED:20241120T173723Z
LAST-MODIFIED:20241120T173723Z
UID:10000088-1733333400-1733337000@princeofpeace-er.org
SUMMARY:Advent Meal/Holden Evening Prayer Service
DESCRIPTION:We will be serving soup at 5:30 pm with a Holden Evening Prayer Service to follow at 6:00 pm.
URL:https://princeofpeace-er.org/event/advent-meal-holden-evening-prayer-service/2024-12-04/
LOCATION:Prince of Peace\, 5030 Hwy 70 W\, Eagle River\, WI\, 54521
END:VEVENT
BEGIN:VEVENT
DTSTART;TZID=America/Chicago:20241204T163000
DTEND;TZID=America/Chicago:20241204T173000
DTSTAMP:20260423T133358
CREATED:20241120T173547Z
LAST-MODIFIED:20241120T173547Z
UID:10000085-1733329800-1733333400@princeofpeace-er.org
SUMMARY:Choir Practice
DESCRIPTION:Come on – come all – come join us for choir practice for our Christmas service.
URL:https://princeofpeace-er.org/event/choir-practice/2024-12-04/
LOCATION:Prince of Peace\, 5030 Hwy 70 W\, Eagle River\, WI\, 54521
END:VEVENT
BEGIN:VEVENT
DTSTART;TZID=America/Chicago:20241201T090000
DTEND;TZID=America/Chicago:20241201T090000
DTSTAMP:20260423T133358
CREATED:20240904T191323Z
LAST-MODIFIED:20240904T191323Z
UID:10000017-1733043600-1733043600@princeofpeace-er.org
SUMMARY:Sunday Worship Service
DESCRIPTION:We have in-person worship on Sundays at 9:00 AM. Communion is available. \nServices are livestreamed on Facebook with an edited version uploaded later in the week.
URL:https://princeofpeace-er.org/event/sunday-worship-service/2024-12-01/
LOCATION:Prince of Peace\, 5030 Hwy 70 W\, Eagle River\, WI\, 54521
END:VEVENT
BEGIN:VEVENT
DTSTART;TZID=America/Chicago:20241128T100000
DTEND;TZID=America/Chicago:20241128T110000
DTSTAMP:20260423T133358
CREATED:20241120T173340Z
LAST-MODIFIED:20241120T173340Z
UID:10000082-1732788000-1732791600@princeofpeace-er.org
SUMMARY:Thanksgiving Day Service
DESCRIPTION:Join us on Thanksgiving to give thanks together!
URL:https://princeofpeace-er.org/event/thanksgiving-day-service/
LOCATION:Prince of Peace\, 5030 Hwy 70 W\, Eagle River\, WI\, 54521
END:VEVENT
BEGIN:VEVENT
DTSTART;TZID=America/Chicago:20241127T163000
DTEND;TZID=America/Chicago:20241127T173000
DTSTAMP:20260423T133358
CREATED:20241120T173547Z
LAST-MODIFIED:20241120T173547Z
UID:10000084-1732725000-1732728600@princeofpeace-er.org
SUMMARY:Choir Practice
DESCRIPTION:Come on – come all – come join us for choir practice for our Christmas service.
URL:https://princeofpeace-er.org/event/choir-practice/2024-11-27/
LOCATION:Prince of Peace\, 5030 Hwy 70 W\, Eagle River\, WI\, 54521
END:VEVENT
BEGIN:VEVENT
DTSTART;TZID=America/Chicago:20241124T090000
DTEND;TZID=America/Chicago:20241124T090000
DTSTAMP:20260423T133358
CREATED:20240904T191323Z
LAST-MODIFIED:20240904T191323Z
UID:10000016-1732438800-1732438800@princeofpeace-er.org
SUMMARY:Sunday Worship Service
DESCRIPTION:We have in-person worship on Sundays at 9:00 AM. Communion is available. \nServices are livestreamed on Facebook with an edited version uploaded later in the week.
URL:https://princeofpeace-er.org/event/sunday-worship-service/2024-11-24/
LOCATION:Prince of Peace\, 5030 Hwy 70 W\, Eagle River\, WI\, 54521
END:VEVENT
BEGIN:VEVENT
DTSTART;TZID=America/Chicago:20241120T163000
DTEND;TZID=America/Chicago:20241120T173000
DTSTAMP:20260423T133358
CREATED:20241120T173547Z
LAST-MODIFIED:20241120T173547Z
UID:10000083-1732120200-1732123800@princeofpeace-er.org
SUMMARY:Choir Practice
DESCRIPTION:Come on – come all – come join us for choir practice for our Christmas service.
URL:https://princeofpeace-er.org/event/choir-practice/2024-11-20/
LOCATION:Prince of Peace\, 5030 Hwy 70 W\, Eagle River\, WI\, 54521
END:VEVENT
BEGIN:VEVENT
DTSTART;TZID=America/Chicago:20241117T090000
DTEND;TZID=America/Chicago:20241117T090000
DTSTAMP:20260423T133358
CREATED:20240904T191323Z
LAST-MODIFIED:20240904T191323Z
UID:10000015-1731834000-1731834000@princeofpeace-er.org
SUMMARY:Sunday Worship Service
DESCRIPTION:We have in-person worship on Sundays at 9:00 AM. Communion is available. \nServices are livestreamed on Facebook with an edited version uploaded later in the week.
URL:https://princeofpeace-er.org/event/sunday-worship-service/2024-11-17/
LOCATION:Prince of Peace\, 5030 Hwy 70 W\, Eagle River\, WI\, 54521
END:VEVENT
BEGIN:VEVENT
DTSTART;TZID=America/Chicago:20241110T090000
DTEND;TZID=America/Chicago:20241110T090000
DTSTAMP:20260423T133358
CREATED:20240904T191323Z
LAST-MODIFIED:20240904T191323Z
UID:10000014-1731229200-1731229200@princeofpeace-er.org
SUMMARY:Sunday Worship Service
DESCRIPTION:We have in-person worship on Sundays at 9:00 AM. Communion is available. \nServices are livestreamed on Facebook with an edited version uploaded later in the week.
URL:https://princeofpeace-er.org/event/sunday-worship-service/2024-11-10/
LOCATION:Prince of Peace\, 5030 Hwy 70 W\, Eagle River\, WI\, 54521
END:VEVENT
BEGIN:VEVENT
DTSTART;TZID=America/Chicago:20241103T090000
DTEND;TZID=America/Chicago:20241103T100000
DTSTAMP:20260423T133358
CREATED:20241022T152621Z
LAST-MODIFIED:20241022T152621Z
UID:10000081-1730624400-1730628000@princeofpeace-er.org
SUMMARY:All Saint's Sunday (And Daylight Savings Time)
DESCRIPTION:
URL:https://princeofpeace-er.org/event/all-saints-sunday-and-daylight-savings-time/
LOCATION:Prince of Peace\, 5030 Hwy 70 W\, Eagle River\, WI\, 54521
END:VEVENT
BEGIN:VEVENT
DTSTART;TZID=America/Chicago:20241103T090000
DTEND;TZID=America/Chicago:20241103T090000
DTSTAMP:20260423T133358
CREATED:20240904T191323Z
LAST-MODIFIED:20240904T191323Z
UID:10000013-1730624400-1730624400@princeofpeace-er.org
SUMMARY:Sunday Worship Service
DESCRIPTION:We have in-person worship on Sundays at 9:00 AM. Communion is available. \nServices are livestreamed on Facebook with an edited version uploaded later in the week.
URL:https://princeofpeace-er.org/event/sunday-worship-service/2024-11-03/
LOCATION:Prince of Peace\, 5030 Hwy 70 W\, Eagle River\, WI\, 54521
END:VEVENT
BEGIN:VEVENT
DTSTART;TZID=America/Chicago:20241031T160000
DTEND;TZID=America/Chicago:20241031T180000
DTSTAMP:20260423T133358
CREATED:20241022T152355Z
LAST-MODIFIED:20241022T152355Z
UID:10000079-1730390400-1730397600@princeofpeace-er.org
SUMMARY:Trunk or Treat
DESCRIPTION:Come to a spook-tacular event!  Trunk or Treat for all ghouls!  We will have a bonfire and hot apple cider plus treats galore.
URL:https://princeofpeace-er.org/event/trunk-or-treat/
LOCATION:Prince of Peace\, 5030 Hwy 70 W\, Eagle River\, WI\, 54521
END:VEVENT
BEGIN:VEVENT
DTSTART;TZID=America/Chicago:20241027T090000
DTEND;TZID=America/Chicago:20241027T110000
DTSTAMP:20260423T133358
CREATED:20241022T152510Z
LAST-MODIFIED:20241022T152510Z
UID:10000080-1730019600-1730026800@princeofpeace-er.org
SUMMARY:Reformation Sunday
DESCRIPTION:Wear red and come join us for fellowship and food.  God’s Work\, Our Hands will be hosting a brunch after worship. Worship begins at 9:00 am.
URL:https://princeofpeace-er.org/event/reformation-sunday/
LOCATION:Prince of Peace\, 5030 Hwy 70 W\, Eagle River\, WI\, 54521
END:VEVENT
BEGIN:VEVENT
DTSTART;TZID=America/Chicago:20241027T090000
DTEND;TZID=America/Chicago:20241027T090000
DTSTAMP:20260423T133358
CREATED:20240904T191323Z
LAST-MODIFIED:20240904T191323Z
UID:10000012-1730019600-1730019600@princeofpeace-er.org
SUMMARY:Sunday Worship Service
DESCRIPTION:We have in-person worship on Sundays at 9:00 AM. Communion is available. \nServices are livestreamed on Facebook with an edited version uploaded later in the week.
URL:https://princeofpeace-er.org/event/sunday-worship-service/2024-10-27/
LOCATION:Prince of Peace\, 5030 Hwy 70 W\, Eagle River\, WI\, 54521
END:VEVENT
BEGIN:VEVENT
DTSTART;TZID=America/Chicago:20241020T090000
DTEND;TZID=America/Chicago:20241020T100000
DTSTAMP:20260423T133358
CREATED:20240924T160030Z
LAST-MODIFIED:20240924T160030Z
UID:10000078-1729414800-1729418400@princeofpeace-er.org
SUMMARY:Consecration Sunday
DESCRIPTION:
URL:https://princeofpeace-er.org/event/consecration-sunday/
LOCATION:Prince of Peace\, 5030 Hwy 70 W\, Eagle River\, WI\, 54521
END:VEVENT
BEGIN:VEVENT
DTSTART;TZID=America/Chicago:20241020T090000
DTEND;TZID=America/Chicago:20241020T090000
DTSTAMP:20260423T133358
CREATED:20240904T191323Z
LAST-MODIFIED:20240904T191323Z
UID:10000011-1729414800-1729414800@princeofpeace-er.org
SUMMARY:Sunday Worship Service
DESCRIPTION:We have in-person worship on Sundays at 9:00 AM. Communion is available. \nServices are livestreamed on Facebook with an edited version uploaded later in the week.
URL:https://princeofpeace-er.org/event/sunday-worship-service/2024-10-20/
LOCATION:Prince of Peace\, 5030 Hwy 70 W\, Eagle River\, WI\, 54521
END:VEVENT
BEGIN:VEVENT
DTSTART;TZID=America/Chicago:20241013T090000
DTEND;TZID=America/Chicago:20241013T223000
DTSTAMP:20260423T133358
CREATED:20240918T150206Z
LAST-MODIFIED:20240924T155944Z
UID:10000077-1728810000-1728858600@princeofpeace-er.org
SUMMARY:Pet Blessing Sunday
DESCRIPTION:Details to follow.
URL:https://princeofpeace-er.org/event/pet-blessing-sunday/
LOCATION:Prince of Peace\, 5030 Hwy 70 W\, Eagle River\, WI\, 54521
END:VEVENT
BEGIN:VEVENT
DTSTART;TZID=America/Chicago:20241013T090000
DTEND;TZID=America/Chicago:20241013T090000
DTSTAMP:20260423T133358
CREATED:20240904T191323Z
LAST-MODIFIED:20240904T191323Z
UID:10000010-1728810000-1728810000@princeofpeace-er.org
SUMMARY:Sunday Worship Service
DESCRIPTION:We have in-person worship on Sundays at 9:00 AM. Communion is available. \nServices are livestreamed on Facebook with an edited version uploaded later in the week.
URL:https://princeofpeace-er.org/event/sunday-worship-service/2024-10-13/
LOCATION:Prince of Peace\, 5030 Hwy 70 W\, Eagle River\, WI\, 54521
END:VEVENT
BEGIN:VEVENT
DTSTART;TZID=America/Chicago:20241006T090000
DTEND;TZID=America/Chicago:20241006T090000
DTSTAMP:20260423T133358
CREATED:20240904T191323Z
LAST-MODIFIED:20240904T191323Z
UID:10000009-1728205200-1728205200@princeofpeace-er.org
SUMMARY:Sunday Worship Service
DESCRIPTION:We have in-person worship on Sundays at 9:00 AM. Communion is available. \nServices are livestreamed on Facebook with an edited version uploaded later in the week.
URL:https://princeofpeace-er.org/event/sunday-worship-service/2024-10-06/
LOCATION:Prince of Peace\, 5030 Hwy 70 W\, Eagle River\, WI\, 54521
END:VEVENT
BEGIN:VEVENT
DTSTART;VALUE=DATE:20241004
DTEND;VALUE=DATE:20241007
DTSTAMP:20260423T133358
CREATED:20240904T191612Z
LAST-MODIFIED:20240904T191612Z
UID:10000076-1728000000-1728259199@princeofpeace-er.org
SUMMARY:Pastor Grant Out of the Office
DESCRIPTION:
URL:https://princeofpeace-er.org/event/pastor-grant-out-of-the-office/
LOCATION:Prince of Peace\, 5030 Hwy 70 W\, Eagle River\, WI\, 54521
END:VEVENT
BEGIN:VEVENT
DTSTART;TZID=America/Chicago:20240929T090000
DTEND;TZID=America/Chicago:20240929T090000
DTSTAMP:20260423T133358
CREATED:20240904T191323Z
LAST-MODIFIED:20240904T191323Z
UID:10000008-1727600400-1727600400@princeofpeace-er.org
SUMMARY:Sunday Worship Service
DESCRIPTION:We have in-person worship on Sundays at 9:00 AM. Communion is available. \nServices are livestreamed on Facebook with an edited version uploaded later in the week.
URL:https://princeofpeace-er.org/event/sunday-worship-service/2024-09-29/
LOCATION:Prince of Peace\, 5030 Hwy 70 W\, Eagle River\, WI\, 54521
END:VEVENT
BEGIN:VEVENT
DTSTART;VALUE=DATE:20240926
DTEND;VALUE=DATE:20240927
DTSTAMP:20260423T133358
CREATED:20240904T191540Z
LAST-MODIFIED:20240904T191540Z
UID:10000075-1727308800-1727395199@princeofpeace-er.org
SUMMARY:Ann Out of the Office
DESCRIPTION:
URL:https://princeofpeace-er.org/event/ann-out-of-the-office/
LOCATION:Prince of Peace\, 5030 Hwy 70 W\, Eagle River\, WI\, 54521
END:VEVENT
BEGIN:VEVENT
DTSTART;TZID=America/Chicago:20240922T090000
DTEND;TZID=America/Chicago:20240922T090000
DTSTAMP:20260423T133358
CREATED:20240904T191323Z
LAST-MODIFIED:20240904T191323Z
UID:10000007-1726995600-1726995600@princeofpeace-er.org
SUMMARY:Sunday Worship Service
DESCRIPTION:We have in-person worship on Sundays at 9:00 AM. Communion is available. \nServices are livestreamed on Facebook with an edited version uploaded later in the week.
URL:https://princeofpeace-er.org/event/sunday-worship-service/2024-09-22/
LOCATION:Prince of Peace\, 5030 Hwy 70 W\, Eagle River\, WI\, 54521
END:VEVENT
BEGIN:VEVENT
DTSTART;TZID=America/Chicago:20240919T173000
DTEND;TZID=America/Chicago:20240919T173000
DTSTAMP:20260423T133358
CREATED:20240904T191428Z
LAST-MODIFIED:20240904T191428Z
UID:10000074-1726767000-1726767000@princeofpeace-er.org
SUMMARY:Sno-Eagles & Weekend Backpack
DESCRIPTION:
URL:https://princeofpeace-er.org/event/sno-eagles-weekend-backpack/
LOCATION:Prince of Peace\, 5030 Hwy 70 W\, Eagle River\, WI\, 54521
END:VEVENT
END:VCALENDAR