BEGIN:VCALENDAR
VERSION:2.0
PRODID:-//Prince of Peace Lutheran Church Eagle River - ECPv6.15.20//NONSGML v1.0//EN
CALSCALE:GREGORIAN
METHOD:PUBLISH
X-WR-CALNAME:Prince of Peace Lutheran Church Eagle River
X-ORIGINAL-URL:https://princeofpeace-er.org
X-WR-CALDESC:Events for Prince of Peace Lutheran Church Eagle River
REFRESH-INTERVAL;VALUE=DURATION:PT1H
X-Robots-Tag:noindex
X-PUBLISHED-TTL:PT1H
BEGIN:VTIMEZONE
TZID:America/Chicago
BEGIN:DAYLIGHT
TZOFFSETFROM:-0600
TZOFFSETTO:-0500
TZNAME:CDT
DTSTART:20270314T080000
END:DAYLIGHT
BEGIN:STANDARD
TZOFFSETFROM:-0500
TZOFFSETTO:-0600
TZNAME:CST
DTSTART:20271107T070000
END:STANDARD
BEGIN:DAYLIGHT
TZOFFSETFROM:-0600
TZOFFSETTO:-0500
TZNAME:CDT
DTSTART:20280312T080000
END:DAYLIGHT
BEGIN:STANDARD
TZOFFSETFROM:-0500
TZOFFSETTO:-0600
TZNAME:CST
DTSTART:20281105T070000
END:STANDARD
BEGIN:DAYLIGHT
TZOFFSETFROM:-0600
TZOFFSETTO:-0500
TZNAME:CDT
DTSTART:20290311T080000
END:DAYLIGHT
BEGIN:STANDARD
TZOFFSETFROM:-0500
TZOFFSETTO:-0600
TZNAME:CST
DTSTART:20291104T070000
END:STANDARD
END:VTIMEZONE
BEGIN:VEVENT
DTSTART;TZID=America/Chicago:20280528T090000
DTEND;TZID=America/Chicago:20280528T100000
DTSTAMP:20260423T172432
CREATED:20260324T164241Z
LAST-MODIFIED:20260324T164241Z
UID:10000705-1843117200-1843120800@princeofpeace-er.org
SUMMARY:Sunday Worship Service
DESCRIPTION:
URL:https://princeofpeace-er.org/event/sunday-worship-service-2/2028-05-28/
LOCATION:Prince of Peace\, 5030 Hwy 70 W\, Eagle River\, WI\, 54521
END:VEVENT
BEGIN:VEVENT
DTSTART;TZID=America/Chicago:20280604T090000
DTEND;TZID=America/Chicago:20280604T100000
DTSTAMP:20260423T172432
CREATED:20260324T164241Z
LAST-MODIFIED:20260324T164241Z
UID:10000706-1843722000-1843725600@princeofpeace-er.org
SUMMARY:Sunday Worship Service
DESCRIPTION:
URL:https://princeofpeace-er.org/event/sunday-worship-service-2/2028-06-04/
LOCATION:Prince of Peace\, 5030 Hwy 70 W\, Eagle River\, WI\, 54521
END:VEVENT
BEGIN:VEVENT
DTSTART;TZID=America/Chicago:20280607T093000
DTEND;TZID=America/Chicago:20280607T113000
DTSTAMP:20260423T172432
CREATED:20250514T174634Z
LAST-MODIFIED:20250514T174634Z
UID:10000271-1843983000-1843990200@princeofpeace-er.org
SUMMARY:Quilters Meet
DESCRIPTION:You don’t have to be able to sew to help out.  We can use your help tying quilts together.  These quilts are donated around the world.
URL:https://princeofpeace-er.org/event/quilters-meet-2/2028-06-07/
LOCATION:Prince of Peace\, 5030 Hwy 70 W\, Eagle River\, WI\, 54521
END:VEVENT
BEGIN:VEVENT
DTSTART;TZID=America/Chicago:20280611T090000
DTEND;TZID=America/Chicago:20280611T100000
DTSTAMP:20260423T172432
CREATED:20260324T164241Z
LAST-MODIFIED:20260324T164241Z
UID:10000707-1844326800-1844330400@princeofpeace-er.org
SUMMARY:Sunday Worship Service
DESCRIPTION:
URL:https://princeofpeace-er.org/event/sunday-worship-service-2/2028-06-11/
LOCATION:Prince of Peace\, 5030 Hwy 70 W\, Eagle River\, WI\, 54521
END:VEVENT
BEGIN:VEVENT
DTSTART;TZID=America/Chicago:20280618T090000
DTEND;TZID=America/Chicago:20280618T100000
DTSTAMP:20260423T172432
CREATED:20260324T164241Z
LAST-MODIFIED:20260324T164241Z
UID:10000708-1844931600-1844935200@princeofpeace-er.org
SUMMARY:Sunday Worship Service
DESCRIPTION:
URL:https://princeofpeace-er.org/event/sunday-worship-service-2/2028-06-18/
LOCATION:Prince of Peace\, 5030 Hwy 70 W\, Eagle River\, WI\, 54521
END:VEVENT
BEGIN:VEVENT
DTSTART;TZID=America/Chicago:20280621T093000
DTEND;TZID=America/Chicago:20280621T233000
DTSTAMP:20260423T172432
CREATED:20250514T174456Z
LAST-MODIFIED:20250514T174456Z
UID:10000212-1845192600-1845243000@princeofpeace-er.org
SUMMARY:Quilters Meet
DESCRIPTION:You don’t have to be able to sew to help out.  We can use your help in tying quilts together to be donated around the globe.
URL:https://princeofpeace-er.org/event/quilters-meet/2028-06-21/
LOCATION:Prince of Peace\, 5030 Hwy 70 W\, Eagle River\, WI\, 54521
END:VEVENT
BEGIN:VEVENT
DTSTART;TZID=America/Chicago:20280625T090000
DTEND;TZID=America/Chicago:20280625T100000
DTSTAMP:20260423T172432
CREATED:20260324T164241Z
LAST-MODIFIED:20260324T164241Z
UID:10000709-1845536400-1845540000@princeofpeace-er.org
SUMMARY:Sunday Worship Service
DESCRIPTION:
URL:https://princeofpeace-er.org/event/sunday-worship-service-2/2028-06-25/
LOCATION:Prince of Peace\, 5030 Hwy 70 W\, Eagle River\, WI\, 54521
END:VEVENT
BEGIN:VEVENT
DTSTART;TZID=America/Chicago:20280702T090000
DTEND;TZID=America/Chicago:20280702T100000
DTSTAMP:20260423T172432
CREATED:20260324T164241Z
LAST-MODIFIED:20260324T164241Z
UID:10000710-1846141200-1846144800@princeofpeace-er.org
SUMMARY:Sunday Worship Service
DESCRIPTION:
URL:https://princeofpeace-er.org/event/sunday-worship-service-2/2028-07-02/
LOCATION:Prince of Peace\, 5030 Hwy 70 W\, Eagle River\, WI\, 54521
END:VEVENT
BEGIN:VEVENT
DTSTART;TZID=America/Chicago:20280705T093000
DTEND;TZID=America/Chicago:20280705T113000
DTSTAMP:20260423T172432
CREATED:20250514T174634Z
LAST-MODIFIED:20250514T174634Z
UID:10000272-1846402200-1846409400@princeofpeace-er.org
SUMMARY:Quilters Meet
DESCRIPTION:You don’t have to be able to sew to help out.  We can use your help tying quilts together.  These quilts are donated around the world.
URL:https://princeofpeace-er.org/event/quilters-meet-2/2028-07-05/
LOCATION:Prince of Peace\, 5030 Hwy 70 W\, Eagle River\, WI\, 54521
END:VEVENT
BEGIN:VEVENT
DTSTART;TZID=America/Chicago:20280709T090000
DTEND;TZID=America/Chicago:20280709T100000
DTSTAMP:20260423T172432
CREATED:20260324T164241Z
LAST-MODIFIED:20260324T164241Z
UID:10000711-1846746000-1846749600@princeofpeace-er.org
SUMMARY:Sunday Worship Service
DESCRIPTION:
URL:https://princeofpeace-er.org/event/sunday-worship-service-2/2028-07-09/
LOCATION:Prince of Peace\, 5030 Hwy 70 W\, Eagle River\, WI\, 54521
END:VEVENT
BEGIN:VEVENT
DTSTART;TZID=America/Chicago:20280716T090000
DTEND;TZID=America/Chicago:20280716T100000
DTSTAMP:20260423T172432
CREATED:20260324T164241Z
LAST-MODIFIED:20260324T164241Z
UID:10000712-1847350800-1847354400@princeofpeace-er.org
SUMMARY:Sunday Worship Service
DESCRIPTION:
URL:https://princeofpeace-er.org/event/sunday-worship-service-2/2028-07-16/
LOCATION:Prince of Peace\, 5030 Hwy 70 W\, Eagle River\, WI\, 54521
END:VEVENT
BEGIN:VEVENT
DTSTART;TZID=America/Chicago:20280719T093000
DTEND;TZID=America/Chicago:20280719T233000
DTSTAMP:20260423T172432
CREATED:20250514T174456Z
LAST-MODIFIED:20250514T174456Z
UID:10000213-1847611800-1847662200@princeofpeace-er.org
SUMMARY:Quilters Meet
DESCRIPTION:You don’t have to be able to sew to help out.  We can use your help in tying quilts together to be donated around the globe.
URL:https://princeofpeace-er.org/event/quilters-meet/2028-07-19/
LOCATION:Prince of Peace\, 5030 Hwy 70 W\, Eagle River\, WI\, 54521
END:VEVENT
BEGIN:VEVENT
DTSTART;TZID=America/Chicago:20280723T090000
DTEND;TZID=America/Chicago:20280723T100000
DTSTAMP:20260423T172432
CREATED:20260324T164241Z
LAST-MODIFIED:20260324T164241Z
UID:10000713-1847955600-1847959200@princeofpeace-er.org
SUMMARY:Sunday Worship Service
DESCRIPTION:
URL:https://princeofpeace-er.org/event/sunday-worship-service-2/2028-07-23/
LOCATION:Prince of Peace\, 5030 Hwy 70 W\, Eagle River\, WI\, 54521
END:VEVENT
BEGIN:VEVENT
DTSTART;TZID=America/Chicago:20280730T090000
DTEND;TZID=America/Chicago:20280730T100000
DTSTAMP:20260423T172432
CREATED:20260324T164241Z
LAST-MODIFIED:20260324T164241Z
UID:10000714-1848560400-1848564000@princeofpeace-er.org
SUMMARY:Sunday Worship Service
DESCRIPTION:
URL:https://princeofpeace-er.org/event/sunday-worship-service-2/2028-07-30/
LOCATION:Prince of Peace\, 5030 Hwy 70 W\, Eagle River\, WI\, 54521
END:VEVENT
BEGIN:VEVENT
DTSTART;TZID=America/Chicago:20280802T093000
DTEND;TZID=America/Chicago:20280802T113000
DTSTAMP:20260423T172432
CREATED:20250514T174634Z
LAST-MODIFIED:20250514T174634Z
UID:10000273-1848821400-1848828600@princeofpeace-er.org
SUMMARY:Quilters Meet
DESCRIPTION:You don’t have to be able to sew to help out.  We can use your help tying quilts together.  These quilts are donated around the world.
URL:https://princeofpeace-er.org/event/quilters-meet-2/2028-08-02/
LOCATION:Prince of Peace\, 5030 Hwy 70 W\, Eagle River\, WI\, 54521
END:VEVENT
BEGIN:VEVENT
DTSTART;TZID=America/Chicago:20280806T090000
DTEND;TZID=America/Chicago:20280806T100000
DTSTAMP:20260423T172432
CREATED:20260324T164241Z
LAST-MODIFIED:20260324T164241Z
UID:10000715-1849165200-1849168800@princeofpeace-er.org
SUMMARY:Sunday Worship Service
DESCRIPTION:
URL:https://princeofpeace-er.org/event/sunday-worship-service-2/2028-08-06/
LOCATION:Prince of Peace\, 5030 Hwy 70 W\, Eagle River\, WI\, 54521
END:VEVENT
BEGIN:VEVENT
DTSTART;TZID=America/Chicago:20280813T090000
DTEND;TZID=America/Chicago:20280813T100000
DTSTAMP:20260423T172432
CREATED:20260324T164241Z
LAST-MODIFIED:20260324T164241Z
UID:10000716-1849770000-1849773600@princeofpeace-er.org
SUMMARY:Sunday Worship Service
DESCRIPTION:
URL:https://princeofpeace-er.org/event/sunday-worship-service-2/2028-08-13/
LOCATION:Prince of Peace\, 5030 Hwy 70 W\, Eagle River\, WI\, 54521
END:VEVENT
BEGIN:VEVENT
DTSTART;TZID=America/Chicago:20280816T093000
DTEND;TZID=America/Chicago:20280816T233000
DTSTAMP:20260423T172432
CREATED:20250514T174456Z
LAST-MODIFIED:20250514T174456Z
UID:10000214-1850031000-1850081400@princeofpeace-er.org
SUMMARY:Quilters Meet
DESCRIPTION:You don’t have to be able to sew to help out.  We can use your help in tying quilts together to be donated around the globe.
URL:https://princeofpeace-er.org/event/quilters-meet/2028-08-16/
LOCATION:Prince of Peace\, 5030 Hwy 70 W\, Eagle River\, WI\, 54521
END:VEVENT
BEGIN:VEVENT
DTSTART;TZID=America/Chicago:20280820T090000
DTEND;TZID=America/Chicago:20280820T100000
DTSTAMP:20260423T172432
CREATED:20260324T164241Z
LAST-MODIFIED:20260324T164241Z
UID:10000717-1850374800-1850378400@princeofpeace-er.org
SUMMARY:Sunday Worship Service
DESCRIPTION:
URL:https://princeofpeace-er.org/event/sunday-worship-service-2/2028-08-20/
LOCATION:Prince of Peace\, 5030 Hwy 70 W\, Eagle River\, WI\, 54521
END:VEVENT
BEGIN:VEVENT
DTSTART;TZID=America/Chicago:20280827T090000
DTEND;TZID=America/Chicago:20280827T100000
DTSTAMP:20260423T172432
CREATED:20260324T164241Z
LAST-MODIFIED:20260324T164241Z
UID:10000718-1850979600-1850983200@princeofpeace-er.org
SUMMARY:Sunday Worship Service
DESCRIPTION:
URL:https://princeofpeace-er.org/event/sunday-worship-service-2/2028-08-27/
LOCATION:Prince of Peace\, 5030 Hwy 70 W\, Eagle River\, WI\, 54521
END:VEVENT
BEGIN:VEVENT
DTSTART;TZID=America/Chicago:20280903T090000
DTEND;TZID=America/Chicago:20280903T100000
DTSTAMP:20260423T172432
CREATED:20260324T164241Z
LAST-MODIFIED:20260324T164241Z
UID:10000719-1851584400-1851588000@princeofpeace-er.org
SUMMARY:Sunday Worship Service
DESCRIPTION:
URL:https://princeofpeace-er.org/event/sunday-worship-service-2/2028-09-03/
LOCATION:Prince of Peace\, 5030 Hwy 70 W\, Eagle River\, WI\, 54521
END:VEVENT
BEGIN:VEVENT
DTSTART;TZID=America/Chicago:20280906T093000
DTEND;TZID=America/Chicago:20280906T113000
DTSTAMP:20260423T172432
CREATED:20250514T174634Z
LAST-MODIFIED:20250514T174634Z
UID:10000274-1851845400-1851852600@princeofpeace-er.org
SUMMARY:Quilters Meet
DESCRIPTION:You don’t have to be able to sew to help out.  We can use your help tying quilts together.  These quilts are donated around the world.
URL:https://princeofpeace-er.org/event/quilters-meet-2/2028-09-06/
LOCATION:Prince of Peace\, 5030 Hwy 70 W\, Eagle River\, WI\, 54521
END:VEVENT
BEGIN:VEVENT
DTSTART;TZID=America/Chicago:20280910T090000
DTEND;TZID=America/Chicago:20280910T100000
DTSTAMP:20260423T172432
CREATED:20260324T164241Z
LAST-MODIFIED:20260324T164241Z
UID:10000720-1852189200-1852192800@princeofpeace-er.org
SUMMARY:Sunday Worship Service
DESCRIPTION:
URL:https://princeofpeace-er.org/event/sunday-worship-service-2/2028-09-10/
LOCATION:Prince of Peace\, 5030 Hwy 70 W\, Eagle River\, WI\, 54521
END:VEVENT
BEGIN:VEVENT
DTSTART;TZID=America/Chicago:20280917T090000
DTEND;TZID=America/Chicago:20280917T100000
DTSTAMP:20260423T172432
CREATED:20260324T164241Z
LAST-MODIFIED:20260324T164241Z
UID:10000721-1852794000-1852797600@princeofpeace-er.org
SUMMARY:Sunday Worship Service
DESCRIPTION:
URL:https://princeofpeace-er.org/event/sunday-worship-service-2/2028-09-17/
LOCATION:Prince of Peace\, 5030 Hwy 70 W\, Eagle River\, WI\, 54521
END:VEVENT
BEGIN:VEVENT
DTSTART;TZID=America/Chicago:20280920T093000
DTEND;TZID=America/Chicago:20280920T233000
DTSTAMP:20260423T172432
CREATED:20250514T174456Z
LAST-MODIFIED:20250514T174456Z
UID:10000215-1853055000-1853105400@princeofpeace-er.org
SUMMARY:Quilters Meet
DESCRIPTION:You don’t have to be able to sew to help out.  We can use your help in tying quilts together to be donated around the globe.
URL:https://princeofpeace-er.org/event/quilters-meet/2028-09-20/
LOCATION:Prince of Peace\, 5030 Hwy 70 W\, Eagle River\, WI\, 54521
END:VEVENT
BEGIN:VEVENT
DTSTART;TZID=America/Chicago:20280924T090000
DTEND;TZID=America/Chicago:20280924T100000
DTSTAMP:20260423T172432
CREATED:20260324T164241Z
LAST-MODIFIED:20260324T164241Z
UID:10000722-1853398800-1853402400@princeofpeace-er.org
SUMMARY:Sunday Worship Service
DESCRIPTION:
URL:https://princeofpeace-er.org/event/sunday-worship-service-2/2028-09-24/
LOCATION:Prince of Peace\, 5030 Hwy 70 W\, Eagle River\, WI\, 54521
END:VEVENT
BEGIN:VEVENT
DTSTART;TZID=America/Chicago:20281001T090000
DTEND;TZID=America/Chicago:20281001T100000
DTSTAMP:20260423T172432
CREATED:20260324T164241Z
LAST-MODIFIED:20260324T164241Z
UID:10000723-1854003600-1854007200@princeofpeace-er.org
SUMMARY:Sunday Worship Service
DESCRIPTION:
URL:https://princeofpeace-er.org/event/sunday-worship-service-2/2028-10-01/
LOCATION:Prince of Peace\, 5030 Hwy 70 W\, Eagle River\, WI\, 54521
END:VEVENT
BEGIN:VEVENT
DTSTART;TZID=America/Chicago:20281004T093000
DTEND;TZID=America/Chicago:20281004T113000
DTSTAMP:20260423T172432
CREATED:20250514T174634Z
LAST-MODIFIED:20250514T174634Z
UID:10000275-1854264600-1854271800@princeofpeace-er.org
SUMMARY:Quilters Meet
DESCRIPTION:You don’t have to be able to sew to help out.  We can use your help tying quilts together.  These quilts are donated around the world.
URL:https://princeofpeace-er.org/event/quilters-meet-2/2028-10-04/
LOCATION:Prince of Peace\, 5030 Hwy 70 W\, Eagle River\, WI\, 54521
END:VEVENT
BEGIN:VEVENT
DTSTART;TZID=America/Chicago:20281008T090000
DTEND;TZID=America/Chicago:20281008T100000
DTSTAMP:20260423T172432
CREATED:20260324T164241Z
LAST-MODIFIED:20260324T164241Z
UID:10000724-1854608400-1854612000@princeofpeace-er.org
SUMMARY:Sunday Worship Service
DESCRIPTION:
URL:https://princeofpeace-er.org/event/sunday-worship-service-2/2028-10-08/
LOCATION:Prince of Peace\, 5030 Hwy 70 W\, Eagle River\, WI\, 54521
END:VEVENT
BEGIN:VEVENT
DTSTART;TZID=America/Chicago:20281015T090000
DTEND;TZID=America/Chicago:20281015T100000
DTSTAMP:20260423T172432
CREATED:20260324T164241Z
LAST-MODIFIED:20260324T164241Z
UID:10000725-1855213200-1855216800@princeofpeace-er.org
SUMMARY:Sunday Worship Service
DESCRIPTION:
URL:https://princeofpeace-er.org/event/sunday-worship-service-2/2028-10-15/
LOCATION:Prince of Peace\, 5030 Hwy 70 W\, Eagle River\, WI\, 54521
END:VEVENT
END:VCALENDAR