BEGIN:VCALENDAR
VERSION:2.0
PRODID:-//Prince of Peace Lutheran Church Eagle River - ECPv6.15.20//NONSGML v1.0//EN
CALSCALE:GREGORIAN
METHOD:PUBLISH
X-WR-CALNAME:Prince of Peace Lutheran Church Eagle River
X-ORIGINAL-URL:https://princeofpeace-er.org
X-WR-CALDESC:Events for Prince of Peace Lutheran Church Eagle River
REFRESH-INTERVAL;VALUE=DURATION:PT1H
X-Robots-Tag:noindex
X-PUBLISHED-TTL:PT1H
BEGIN:VTIMEZONE
TZID:America/Chicago
BEGIN:DAYLIGHT
TZOFFSETFROM:-0600
TZOFFSETTO:-0500
TZNAME:CDT
DTSTART:20230312T080000
END:DAYLIGHT
BEGIN:STANDARD
TZOFFSETFROM:-0500
TZOFFSETTO:-0600
TZNAME:CST
DTSTART:20231105T070000
END:STANDARD
BEGIN:DAYLIGHT
TZOFFSETFROM:-0600
TZOFFSETTO:-0500
TZNAME:CDT
DTSTART:20240310T080000
END:DAYLIGHT
BEGIN:STANDARD
TZOFFSETFROM:-0500
TZOFFSETTO:-0600
TZNAME:CST
DTSTART:20241103T070000
END:STANDARD
BEGIN:DAYLIGHT
TZOFFSETFROM:-0600
TZOFFSETTO:-0500
TZNAME:CDT
DTSTART:20250309T080000
END:DAYLIGHT
BEGIN:STANDARD
TZOFFSETFROM:-0500
TZOFFSETTO:-0600
TZNAME:CST
DTSTART:20251102T070000
END:STANDARD
END:VTIMEZONE
BEGIN:VEVENT
DTSTART;TZID=America/Chicago:20240919T173000
DTEND;TZID=America/Chicago:20240919T173000
DTSTAMP:20260425T052316
CREATED:20240904T191428Z
LAST-MODIFIED:20240904T191428Z
UID:10000074-1726767000-1726767000@princeofpeace-er.org
SUMMARY:Sno-Eagles & Weekend Backpack
DESCRIPTION:
URL:https://princeofpeace-er.org/event/sno-eagles-weekend-backpack/
LOCATION:Prince of Peace\, 5030 Hwy 70 W\, Eagle River\, WI\, 54521
END:VEVENT
BEGIN:VEVENT
DTSTART;TZID=America/Chicago:20240919T103000
DTEND;TZID=America/Chicago:20240919T103000
DTSTAMP:20260425T052316
CREATED:20240904T190946Z
LAST-MODIFIED:20240912T154431Z
UID:10000003-1726741800-1726741800@princeofpeace-er.org
SUMMARY:Church Council Meeting
DESCRIPTION:
URL:https://princeofpeace-er.org/event/church-council-meeting/
LOCATION:Prince of Peace\, 5030 Hwy 70 W\, Eagle River\, WI\, 54521
END:VEVENT
BEGIN:VEVENT
DTSTART;TZID=America/Chicago:20240915T100000
DTEND;TZID=America/Chicago:20240915T100000
DTSTAMP:20260425T052316
CREATED:20240904T191142Z
LAST-MODIFIED:20240904T191142Z
UID:10000004-1726394400-1726394400@princeofpeace-er.org
SUMMARY:Birthday Sunday Celebration After Worship
DESCRIPTION:
URL:https://princeofpeace-er.org/event/birthday-sunday-celebration-after-worship/
LOCATION:Prince of Peace\, 5030 Hwy 70 W\, Eagle River\, WI\, 54521
END:VEVENT
BEGIN:VEVENT
DTSTART;TZID=America/Chicago:20240915T090000
DTEND;TZID=America/Chicago:20240915T090000
DTSTAMP:20260425T052316
CREATED:20240904T191323Z
LAST-MODIFIED:20240904T191323Z
UID:10000006-1726390800-1726390800@princeofpeace-er.org
SUMMARY:Sunday Worship Service
DESCRIPTION:We have in-person worship on Sundays at 9:00 AM. Communion is available. \nServices are livestreamed on Facebook with an edited version uploaded later in the week.
URL:https://princeofpeace-er.org/event/sunday-worship-service/2024-09-15/
LOCATION:Prince of Peace\, 5030 Hwy 70 W\, Eagle River\, WI\, 54521
END:VEVENT
BEGIN:VEVENT
DTSTART;TZID=America/Chicago:20240910T100000
DTEND;TZID=America/Chicago:20240910T100000
DTSTAMP:20260425T052316
CREATED:20240904T190919Z
LAST-MODIFIED:20240904T190919Z
UID:10000002-1725962400-1725962400@princeofpeace-er.org
SUMMARY:Worship & Music Meeting
DESCRIPTION:
URL:https://princeofpeace-er.org/event/worship-music-meeting/
LOCATION:Prince of Peace\, 5030 Hwy 70 W\, Eagle River\, WI\, 54521
END:VEVENT
BEGIN:VEVENT
DTSTART;TZID=America/Chicago:20240908T100000
DTEND;TZID=America/Chicago:20240908T100000
DTSTAMP:20260425T052316
CREATED:20240904T185846Z
LAST-MODIFIED:20240904T191357Z
UID:10000001-1725789600-1725789600@princeofpeace-er.org
SUMMARY:Gods Work Our Hands Sunday
DESCRIPTION:Lunch will be served after worship.  Pack up Personal Care Kits
URL:https://princeofpeace-er.org/event/gods-work-our-hands-sunday/
LOCATION:Prince of Peace\, 5030 Hwy 70 W\, Eagle River\, WI\, 54521
END:VEVENT
BEGIN:VEVENT
DTSTART;TZID=America/Chicago:20240908T090000
DTEND;TZID=America/Chicago:20240908T090000
DTSTAMP:20260425T052316
CREATED:20240904T191323Z
LAST-MODIFIED:20240904T191323Z
UID:10000005-1725786000-1725786000@princeofpeace-er.org
SUMMARY:Sunday Worship Service
DESCRIPTION:We have in-person worship on Sundays at 9:00 AM. Communion is available. \nServices are livestreamed on Facebook with an edited version uploaded later in the week.
URL:https://princeofpeace-er.org/event/sunday-worship-service/2024-09-08/
LOCATION:Prince of Peace\, 5030 Hwy 70 W\, Eagle River\, WI\, 54521
END:VEVENT
END:VCALENDAR