BEGIN:VCALENDAR
VERSION:2.0
PRODID:-//Prince of Peace Lutheran Church Eagle River - ECPv6.15.20//NONSGML v1.0//EN
CALSCALE:GREGORIAN
METHOD:PUBLISH
X-ORIGINAL-URL:https://princeofpeace-er.org
X-WR-CALDESC:Events for Prince of Peace Lutheran Church Eagle River
REFRESH-INTERVAL;VALUE=DURATION:PT1H
X-Robots-Tag:noindex
X-PUBLISHED-TTL:PT1H
BEGIN:VTIMEZONE
TZID:America/Chicago
BEGIN:DAYLIGHT
TZOFFSETFROM:-0600
TZOFFSETTO:-0500
TZNAME:CDT
DTSTART:20280312T080000
END:DAYLIGHT
BEGIN:STANDARD
TZOFFSETFROM:-0500
TZOFFSETTO:-0600
TZNAME:CST
DTSTART:20281105T070000
END:STANDARD
BEGIN:DAYLIGHT
TZOFFSETFROM:-0600
TZOFFSETTO:-0500
TZNAME:CDT
DTSTART:20290311T080000
END:DAYLIGHT
BEGIN:STANDARD
TZOFFSETFROM:-0500
TZOFFSETTO:-0600
TZNAME:CST
DTSTART:20291104T070000
END:STANDARD
BEGIN:DAYLIGHT
TZOFFSETFROM:-0600
TZOFFSETTO:-0500
TZNAME:CDT
DTSTART:20300310T080000
END:DAYLIGHT
BEGIN:STANDARD
TZOFFSETFROM:-0500
TZOFFSETTO:-0600
TZNAME:CST
DTSTART:20301103T070000
END:STANDARD
END:VTIMEZONE
BEGIN:VEVENT
DTSTART;TZID=America/Chicago:20290311T090000
DTEND;TZID=America/Chicago:20290311T100000
DTSTAMP:20260424T011450
CREATED:20260324T164241Z
LAST-MODIFIED:20260324T164241Z
UID:10000746-1867914000-1867917600@princeofpeace-er.org
SUMMARY:Sunday Worship Service
DESCRIPTION:
URL:https://princeofpeace-er.org/event/sunday-worship-service-2/2029-03-11/
LOCATION:Prince of Peace\, 5030 Hwy 70 W\, Eagle River\, WI\, 54521
END:VEVENT
BEGIN:VEVENT
DTSTART;TZID=America/Chicago:20290318T090000
DTEND;TZID=America/Chicago:20290318T100000
DTSTAMP:20260424T011450
CREATED:20260324T164241Z
LAST-MODIFIED:20260324T164241Z
UID:10000747-1868518800-1868522400@princeofpeace-er.org
SUMMARY:Sunday Worship Service
DESCRIPTION:
URL:https://princeofpeace-er.org/event/sunday-worship-service-2/2029-03-18/
LOCATION:Prince of Peace\, 5030 Hwy 70 W\, Eagle River\, WI\, 54521
END:VEVENT
BEGIN:VEVENT
DTSTART;TZID=America/Chicago:20290321T093000
DTEND;TZID=America/Chicago:20290321T233000
DTSTAMP:20260424T011450
CREATED:20250514T174456Z
LAST-MODIFIED:20250514T174456Z
UID:10000221-1868779800-1868830200@princeofpeace-er.org
SUMMARY:Quilters Meet
DESCRIPTION:You don’t have to be able to sew to help out.  We can use your help in tying quilts together to be donated around the globe.
URL:https://princeofpeace-er.org/event/quilters-meet/2029-03-21/
LOCATION:Prince of Peace\, 5030 Hwy 70 W\, Eagle River\, WI\, 54521
END:VEVENT
BEGIN:VEVENT
DTSTART;TZID=America/Chicago:20290325T090000
DTEND;TZID=America/Chicago:20290325T100000
DTSTAMP:20260424T011450
CREATED:20260324T164241Z
LAST-MODIFIED:20260324T164241Z
UID:10000748-1869123600-1869127200@princeofpeace-er.org
SUMMARY:Sunday Worship Service
DESCRIPTION:
URL:https://princeofpeace-er.org/event/sunday-worship-service-2/2029-03-25/
LOCATION:Prince of Peace\, 5030 Hwy 70 W\, Eagle River\, WI\, 54521
END:VEVENT
BEGIN:VEVENT
DTSTART;TZID=America/Chicago:20290401T090000
DTEND;TZID=America/Chicago:20290401T100000
DTSTAMP:20260424T011450
CREATED:20260324T164241Z
LAST-MODIFIED:20260324T164241Z
UID:10000749-1869728400-1869732000@princeofpeace-er.org
SUMMARY:Sunday Worship Service
DESCRIPTION:
URL:https://princeofpeace-er.org/event/sunday-worship-service-2/2029-04-01/
LOCATION:Prince of Peace\, 5030 Hwy 70 W\, Eagle River\, WI\, 54521
END:VEVENT
BEGIN:VEVENT
DTSTART;TZID=America/Chicago:20290404T093000
DTEND;TZID=America/Chicago:20290404T113000
DTSTAMP:20260424T011450
CREATED:20250514T174634Z
LAST-MODIFIED:20250514T174634Z
UID:10000281-1869989400-1869996600@princeofpeace-er.org
SUMMARY:Quilters Meet
DESCRIPTION:You don’t have to be able to sew to help out.  We can use your help tying quilts together.  These quilts are donated around the world.
URL:https://princeofpeace-er.org/event/quilters-meet-2/2029-04-04/
LOCATION:Prince of Peace\, 5030 Hwy 70 W\, Eagle River\, WI\, 54521
END:VEVENT
BEGIN:VEVENT
DTSTART;TZID=America/Chicago:20290408T090000
DTEND;TZID=America/Chicago:20290408T100000
DTSTAMP:20260424T011450
CREATED:20260324T164241Z
LAST-MODIFIED:20260324T164241Z
UID:10000750-1870333200-1870336800@princeofpeace-er.org
SUMMARY:Sunday Worship Service
DESCRIPTION:
URL:https://princeofpeace-er.org/event/sunday-worship-service-2/2029-04-08/
LOCATION:Prince of Peace\, 5030 Hwy 70 W\, Eagle River\, WI\, 54521
END:VEVENT
BEGIN:VEVENT
DTSTART;TZID=America/Chicago:20290415T090000
DTEND;TZID=America/Chicago:20290415T100000
DTSTAMP:20260424T011450
CREATED:20260324T164241Z
LAST-MODIFIED:20260324T164241Z
UID:10000751-1870938000-1870941600@princeofpeace-er.org
SUMMARY:Sunday Worship Service
DESCRIPTION:
URL:https://princeofpeace-er.org/event/sunday-worship-service-2/2029-04-15/
LOCATION:Prince of Peace\, 5030 Hwy 70 W\, Eagle River\, WI\, 54521
END:VEVENT
BEGIN:VEVENT
DTSTART;TZID=America/Chicago:20290418T093000
DTEND;TZID=America/Chicago:20290418T233000
DTSTAMP:20260424T011450
CREATED:20250514T174456Z
LAST-MODIFIED:20250514T174456Z
UID:10000222-1871199000-1871249400@princeofpeace-er.org
SUMMARY:Quilters Meet
DESCRIPTION:You don’t have to be able to sew to help out.  We can use your help in tying quilts together to be donated around the globe.
URL:https://princeofpeace-er.org/event/quilters-meet/2029-04-18/
LOCATION:Prince of Peace\, 5030 Hwy 70 W\, Eagle River\, WI\, 54521
END:VEVENT
BEGIN:VEVENT
DTSTART;TZID=America/Chicago:20290422T090000
DTEND;TZID=America/Chicago:20290422T100000
DTSTAMP:20260424T011450
CREATED:20260324T164241Z
LAST-MODIFIED:20260324T164241Z
UID:10000752-1871542800-1871546400@princeofpeace-er.org
SUMMARY:Sunday Worship Service
DESCRIPTION:
URL:https://princeofpeace-er.org/event/sunday-worship-service-2/2029-04-22/
LOCATION:Prince of Peace\, 5030 Hwy 70 W\, Eagle River\, WI\, 54521
END:VEVENT
BEGIN:VEVENT
DTSTART;TZID=America/Chicago:20290429T090000
DTEND;TZID=America/Chicago:20290429T100000
DTSTAMP:20260424T011450
CREATED:20260324T164241Z
LAST-MODIFIED:20260324T164241Z
UID:10000753-1872147600-1872151200@princeofpeace-er.org
SUMMARY:Sunday Worship Service
DESCRIPTION:
URL:https://princeofpeace-er.org/event/sunday-worship-service-2/2029-04-29/
LOCATION:Prince of Peace\, 5030 Hwy 70 W\, Eagle River\, WI\, 54521
END:VEVENT
BEGIN:VEVENT
DTSTART;TZID=America/Chicago:20290502T093000
DTEND;TZID=America/Chicago:20290502T113000
DTSTAMP:20260424T011450
CREATED:20250514T174634Z
LAST-MODIFIED:20250514T174634Z
UID:10000282-1872408600-1872415800@princeofpeace-er.org
SUMMARY:Quilters Meet
DESCRIPTION:You don’t have to be able to sew to help out.  We can use your help tying quilts together.  These quilts are donated around the world.
URL:https://princeofpeace-er.org/event/quilters-meet-2/2029-05-02/
LOCATION:Prince of Peace\, 5030 Hwy 70 W\, Eagle River\, WI\, 54521
END:VEVENT
BEGIN:VEVENT
DTSTART;TZID=America/Chicago:20290506T090000
DTEND;TZID=America/Chicago:20290506T100000
DTSTAMP:20260424T011450
CREATED:20260324T164241Z
LAST-MODIFIED:20260324T164241Z
UID:10000754-1872752400-1872756000@princeofpeace-er.org
SUMMARY:Sunday Worship Service
DESCRIPTION:
URL:https://princeofpeace-er.org/event/sunday-worship-service-2/2029-05-06/
LOCATION:Prince of Peace\, 5030 Hwy 70 W\, Eagle River\, WI\, 54521
END:VEVENT
BEGIN:VEVENT
DTSTART;TZID=America/Chicago:20290513T090000
DTEND;TZID=America/Chicago:20290513T100000
DTSTAMP:20260424T011450
CREATED:20260324T164241Z
LAST-MODIFIED:20260324T164241Z
UID:10000755-1873357200-1873360800@princeofpeace-er.org
SUMMARY:Sunday Worship Service
DESCRIPTION:
URL:https://princeofpeace-er.org/event/sunday-worship-service-2/2029-05-13/
LOCATION:Prince of Peace\, 5030 Hwy 70 W\, Eagle River\, WI\, 54521
END:VEVENT
BEGIN:VEVENT
DTSTART;TZID=America/Chicago:20290516T093000
DTEND;TZID=America/Chicago:20290516T233000
DTSTAMP:20260424T011450
CREATED:20250514T174456Z
LAST-MODIFIED:20250514T174456Z
UID:10000223-1873618200-1873668600@princeofpeace-er.org
SUMMARY:Quilters Meet
DESCRIPTION:You don’t have to be able to sew to help out.  We can use your help in tying quilts together to be donated around the globe.
URL:https://princeofpeace-er.org/event/quilters-meet/2029-05-16/
LOCATION:Prince of Peace\, 5030 Hwy 70 W\, Eagle River\, WI\, 54521
END:VEVENT
BEGIN:VEVENT
DTSTART;TZID=America/Chicago:20290520T090000
DTEND;TZID=America/Chicago:20290520T100000
DTSTAMP:20260424T011450
CREATED:20260324T164241Z
LAST-MODIFIED:20260324T164241Z
UID:10000756-1873962000-1873965600@princeofpeace-er.org
SUMMARY:Sunday Worship Service
DESCRIPTION:
URL:https://princeofpeace-er.org/event/sunday-worship-service-2/2029-05-20/
LOCATION:Prince of Peace\, 5030 Hwy 70 W\, Eagle River\, WI\, 54521
END:VEVENT
BEGIN:VEVENT
DTSTART;TZID=America/Chicago:20290527T090000
DTEND;TZID=America/Chicago:20290527T100000
DTSTAMP:20260424T011450
CREATED:20260324T164241Z
LAST-MODIFIED:20260324T164241Z
UID:10000757-1874566800-1874570400@princeofpeace-er.org
SUMMARY:Sunday Worship Service
DESCRIPTION:
URL:https://princeofpeace-er.org/event/sunday-worship-service-2/2029-05-27/
LOCATION:Prince of Peace\, 5030 Hwy 70 W\, Eagle River\, WI\, 54521
END:VEVENT
BEGIN:VEVENT
DTSTART;TZID=America/Chicago:20290603T090000
DTEND;TZID=America/Chicago:20290603T100000
DTSTAMP:20260424T011450
CREATED:20260324T164241Z
LAST-MODIFIED:20260324T164241Z
UID:10000758-1875171600-1875175200@princeofpeace-er.org
SUMMARY:Sunday Worship Service
DESCRIPTION:
URL:https://princeofpeace-er.org/event/sunday-worship-service-2/2029-06-03/
LOCATION:Prince of Peace\, 5030 Hwy 70 W\, Eagle River\, WI\, 54521
END:VEVENT
BEGIN:VEVENT
DTSTART;TZID=America/Chicago:20290606T093000
DTEND;TZID=America/Chicago:20290606T113000
DTSTAMP:20260424T011450
CREATED:20250514T174634Z
LAST-MODIFIED:20250514T174634Z
UID:10000283-1875432600-1875439800@princeofpeace-er.org
SUMMARY:Quilters Meet
DESCRIPTION:You don’t have to be able to sew to help out.  We can use your help tying quilts together.  These quilts are donated around the world.
URL:https://princeofpeace-er.org/event/quilters-meet-2/2029-06-06/
LOCATION:Prince of Peace\, 5030 Hwy 70 W\, Eagle River\, WI\, 54521
END:VEVENT
BEGIN:VEVENT
DTSTART;TZID=America/Chicago:20290610T090000
DTEND;TZID=America/Chicago:20290610T100000
DTSTAMP:20260424T011450
CREATED:20260324T164241Z
LAST-MODIFIED:20260324T164241Z
UID:10000759-1875776400-1875780000@princeofpeace-er.org
SUMMARY:Sunday Worship Service
DESCRIPTION:
URL:https://princeofpeace-er.org/event/sunday-worship-service-2/2029-06-10/
LOCATION:Prince of Peace\, 5030 Hwy 70 W\, Eagle River\, WI\, 54521
END:VEVENT
BEGIN:VEVENT
DTSTART;TZID=America/Chicago:20290617T090000
DTEND;TZID=America/Chicago:20290617T100000
DTSTAMP:20260424T011450
CREATED:20260324T164241Z
LAST-MODIFIED:20260324T164241Z
UID:10000760-1876381200-1876384800@princeofpeace-er.org
SUMMARY:Sunday Worship Service
DESCRIPTION:
URL:https://princeofpeace-er.org/event/sunday-worship-service-2/2029-06-17/
LOCATION:Prince of Peace\, 5030 Hwy 70 W\, Eagle River\, WI\, 54521
END:VEVENT
BEGIN:VEVENT
DTSTART;TZID=America/Chicago:20290620T093000
DTEND;TZID=America/Chicago:20290620T233000
DTSTAMP:20260424T011450
CREATED:20250514T174456Z
LAST-MODIFIED:20250514T174456Z
UID:10000224-1876642200-1876692600@princeofpeace-er.org
SUMMARY:Quilters Meet
DESCRIPTION:You don’t have to be able to sew to help out.  We can use your help in tying quilts together to be donated around the globe.
URL:https://princeofpeace-er.org/event/quilters-meet/2029-06-20/
LOCATION:Prince of Peace\, 5030 Hwy 70 W\, Eagle River\, WI\, 54521
END:VEVENT
BEGIN:VEVENT
DTSTART;TZID=America/Chicago:20290624T090000
DTEND;TZID=America/Chicago:20290624T100000
DTSTAMP:20260424T011450
CREATED:20260324T164241Z
LAST-MODIFIED:20260324T164241Z
UID:10000761-1876986000-1876989600@princeofpeace-er.org
SUMMARY:Sunday Worship Service
DESCRIPTION:
URL:https://princeofpeace-er.org/event/sunday-worship-service-2/2029-06-24/
LOCATION:Prince of Peace\, 5030 Hwy 70 W\, Eagle River\, WI\, 54521
END:VEVENT
BEGIN:VEVENT
DTSTART;TZID=America/Chicago:20290701T090000
DTEND;TZID=America/Chicago:20290701T100000
DTSTAMP:20260424T011450
CREATED:20260324T164241Z
LAST-MODIFIED:20260324T164241Z
UID:10000762-1877590800-1877594400@princeofpeace-er.org
SUMMARY:Sunday Worship Service
DESCRIPTION:
URL:https://princeofpeace-er.org/event/sunday-worship-service-2/2029-07-01/
LOCATION:Prince of Peace\, 5030 Hwy 70 W\, Eagle River\, WI\, 54521
END:VEVENT
BEGIN:VEVENT
DTSTART;TZID=America/Chicago:20290704T093000
DTEND;TZID=America/Chicago:20290704T113000
DTSTAMP:20260424T011450
CREATED:20250514T174634Z
LAST-MODIFIED:20250514T174634Z
UID:10000284-1877851800-1877859000@princeofpeace-er.org
SUMMARY:Quilters Meet
DESCRIPTION:You don’t have to be able to sew to help out.  We can use your help tying quilts together.  These quilts are donated around the world.
URL:https://princeofpeace-er.org/event/quilters-meet-2/2029-07-04/
LOCATION:Prince of Peace\, 5030 Hwy 70 W\, Eagle River\, WI\, 54521
END:VEVENT
BEGIN:VEVENT
DTSTART;TZID=America/Chicago:20290708T090000
DTEND;TZID=America/Chicago:20290708T100000
DTSTAMP:20260424T011450
CREATED:20260324T164241Z
LAST-MODIFIED:20260324T164241Z
UID:10000763-1878195600-1878199200@princeofpeace-er.org
SUMMARY:Sunday Worship Service
DESCRIPTION:
URL:https://princeofpeace-er.org/event/sunday-worship-service-2/2029-07-08/
LOCATION:Prince of Peace\, 5030 Hwy 70 W\, Eagle River\, WI\, 54521
END:VEVENT
BEGIN:VEVENT
DTSTART;TZID=America/Chicago:20290715T090000
DTEND;TZID=America/Chicago:20290715T100000
DTSTAMP:20260424T011450
CREATED:20260324T164241Z
LAST-MODIFIED:20260324T164241Z
UID:10000764-1878800400-1878804000@princeofpeace-er.org
SUMMARY:Sunday Worship Service
DESCRIPTION:
URL:https://princeofpeace-er.org/event/sunday-worship-service-2/2029-07-15/
LOCATION:Prince of Peace\, 5030 Hwy 70 W\, Eagle River\, WI\, 54521
END:VEVENT
BEGIN:VEVENT
DTSTART;TZID=America/Chicago:20290718T093000
DTEND;TZID=America/Chicago:20290718T233000
DTSTAMP:20260424T011450
CREATED:20250514T174456Z
LAST-MODIFIED:20250514T174456Z
UID:10000225-1879061400-1879111800@princeofpeace-er.org
SUMMARY:Quilters Meet
DESCRIPTION:You don’t have to be able to sew to help out.  We can use your help in tying quilts together to be donated around the globe.
URL:https://princeofpeace-er.org/event/quilters-meet/2029-07-18/
LOCATION:Prince of Peace\, 5030 Hwy 70 W\, Eagle River\, WI\, 54521
END:VEVENT
BEGIN:VEVENT
DTSTART;TZID=America/Chicago:20290722T090000
DTEND;TZID=America/Chicago:20290722T100000
DTSTAMP:20260424T011450
CREATED:20260324T164241Z
LAST-MODIFIED:20260324T164241Z
UID:10000765-1879405200-1879408800@princeofpeace-er.org
SUMMARY:Sunday Worship Service
DESCRIPTION:
URL:https://princeofpeace-er.org/event/sunday-worship-service-2/2029-07-22/
LOCATION:Prince of Peace\, 5030 Hwy 70 W\, Eagle River\, WI\, 54521
END:VEVENT
BEGIN:VEVENT
DTSTART;TZID=America/Chicago:20290729T090000
DTEND;TZID=America/Chicago:20290729T100000
DTSTAMP:20260424T011450
CREATED:20260324T164241Z
LAST-MODIFIED:20260324T164241Z
UID:10000766-1880010000-1880013600@princeofpeace-er.org
SUMMARY:Sunday Worship Service
DESCRIPTION:
URL:https://princeofpeace-er.org/event/sunday-worship-service-2/2029-07-29/
LOCATION:Prince of Peace\, 5030 Hwy 70 W\, Eagle River\, WI\, 54521
END:VEVENT
END:VCALENDAR