BEGIN:VCALENDAR
VERSION:2.0
PRODID:-//Prince of Peace Lutheran Church Eagle River - ECPv6.15.20//NONSGML v1.0//EN
CALSCALE:GREGORIAN
METHOD:PUBLISH
X-WR-CALNAME:Prince of Peace Lutheran Church Eagle River
X-ORIGINAL-URL:https://princeofpeace-er.org
X-WR-CALDESC:Events for Prince of Peace Lutheran Church Eagle River
REFRESH-INTERVAL;VALUE=DURATION:PT1H
X-Robots-Tag:noindex
X-PUBLISHED-TTL:PT1H
BEGIN:VTIMEZONE
TZID:America/Chicago
BEGIN:DAYLIGHT
TZOFFSETFROM:-0600
TZOFFSETTO:-0500
TZNAME:CDT
DTSTART:20280312T080000
END:DAYLIGHT
BEGIN:STANDARD
TZOFFSETFROM:-0500
TZOFFSETTO:-0600
TZNAME:CST
DTSTART:20281105T070000
END:STANDARD
BEGIN:DAYLIGHT
TZOFFSETFROM:-0600
TZOFFSETTO:-0500
TZNAME:CDT
DTSTART:20290311T080000
END:DAYLIGHT
BEGIN:STANDARD
TZOFFSETFROM:-0500
TZOFFSETTO:-0600
TZNAME:CST
DTSTART:20291104T070000
END:STANDARD
BEGIN:DAYLIGHT
TZOFFSETFROM:-0600
TZOFFSETTO:-0500
TZNAME:CDT
DTSTART:20300310T080000
END:DAYLIGHT
BEGIN:STANDARD
TZOFFSETFROM:-0500
TZOFFSETTO:-0600
TZNAME:CST
DTSTART:20301103T070000
END:STANDARD
BEGIN:DAYLIGHT
TZOFFSETFROM:-0600
TZOFFSETTO:-0500
TZNAME:CDT
DTSTART:20310309T080000
END:DAYLIGHT
BEGIN:STANDARD
TZOFFSETFROM:-0500
TZOFFSETTO:-0600
TZNAME:CST
DTSTART:20311102T070000
END:STANDARD
END:VTIMEZONE
BEGIN:VEVENT
DTSTART;TZID=America/Chicago:20290902T090000
DTEND;TZID=America/Chicago:20290902T100000
DTSTAMP:20260424T060129
CREATED:20260324T164241Z
LAST-MODIFIED:20260324T164241Z
UID:10000771-1883034000-1883037600@princeofpeace-er.org
SUMMARY:Sunday Worship Service
DESCRIPTION:
URL:https://princeofpeace-er.org/event/sunday-worship-service-2/2029-09-02/
LOCATION:Prince of Peace\, 5030 Hwy 70 W\, Eagle River\, WI\, 54521
END:VEVENT
BEGIN:VEVENT
DTSTART;TZID=America/Chicago:20290905T093000
DTEND;TZID=America/Chicago:20290905T113000
DTSTAMP:20260424T060129
CREATED:20250514T174634Z
LAST-MODIFIED:20250514T174634Z
UID:10000286-1883295000-1883302200@princeofpeace-er.org
SUMMARY:Quilters Meet
DESCRIPTION:You don’t have to be able to sew to help out.  We can use your help tying quilts together.  These quilts are donated around the world.
URL:https://princeofpeace-er.org/event/quilters-meet-2/2029-09-05/
LOCATION:Prince of Peace\, 5030 Hwy 70 W\, Eagle River\, WI\, 54521
END:VEVENT
BEGIN:VEVENT
DTSTART;TZID=America/Chicago:20290909T090000
DTEND;TZID=America/Chicago:20290909T100000
DTSTAMP:20260424T060129
CREATED:20260324T164241Z
LAST-MODIFIED:20260324T164241Z
UID:10000772-1883638800-1883642400@princeofpeace-er.org
SUMMARY:Sunday Worship Service
DESCRIPTION:
URL:https://princeofpeace-er.org/event/sunday-worship-service-2/2029-09-09/
LOCATION:Prince of Peace\, 5030 Hwy 70 W\, Eagle River\, WI\, 54521
END:VEVENT
BEGIN:VEVENT
DTSTART;TZID=America/Chicago:20290916T090000
DTEND;TZID=America/Chicago:20290916T100000
DTSTAMP:20260424T060129
CREATED:20260324T164241Z
LAST-MODIFIED:20260324T164241Z
UID:10000773-1884243600-1884247200@princeofpeace-er.org
SUMMARY:Sunday Worship Service
DESCRIPTION:
URL:https://princeofpeace-er.org/event/sunday-worship-service-2/2029-09-16/
LOCATION:Prince of Peace\, 5030 Hwy 70 W\, Eagle River\, WI\, 54521
END:VEVENT
BEGIN:VEVENT
DTSTART;TZID=America/Chicago:20290919T093000
DTEND;TZID=America/Chicago:20290919T233000
DTSTAMP:20260424T060129
CREATED:20250514T174456Z
LAST-MODIFIED:20250514T174456Z
UID:10000227-1884504600-1884555000@princeofpeace-er.org
SUMMARY:Quilters Meet
DESCRIPTION:You don’t have to be able to sew to help out.  We can use your help in tying quilts together to be donated around the globe.
URL:https://princeofpeace-er.org/event/quilters-meet/2029-09-19/
LOCATION:Prince of Peace\, 5030 Hwy 70 W\, Eagle River\, WI\, 54521
END:VEVENT
BEGIN:VEVENT
DTSTART;TZID=America/Chicago:20290923T090000
DTEND;TZID=America/Chicago:20290923T100000
DTSTAMP:20260424T060129
CREATED:20260324T164241Z
LAST-MODIFIED:20260324T164241Z
UID:10000774-1884848400-1884852000@princeofpeace-er.org
SUMMARY:Sunday Worship Service
DESCRIPTION:
URL:https://princeofpeace-er.org/event/sunday-worship-service-2/2029-09-23/
LOCATION:Prince of Peace\, 5030 Hwy 70 W\, Eagle River\, WI\, 54521
END:VEVENT
BEGIN:VEVENT
DTSTART;TZID=America/Chicago:20290930T090000
DTEND;TZID=America/Chicago:20290930T100000
DTSTAMP:20260424T060129
CREATED:20260324T164241Z
LAST-MODIFIED:20260324T164241Z
UID:10000775-1885453200-1885456800@princeofpeace-er.org
SUMMARY:Sunday Worship Service
DESCRIPTION:
URL:https://princeofpeace-er.org/event/sunday-worship-service-2/2029-09-30/
LOCATION:Prince of Peace\, 5030 Hwy 70 W\, Eagle River\, WI\, 54521
END:VEVENT
BEGIN:VEVENT
DTSTART;TZID=America/Chicago:20291003T093000
DTEND;TZID=America/Chicago:20291003T113000
DTSTAMP:20260424T060129
CREATED:20250514T174634Z
LAST-MODIFIED:20250514T174634Z
UID:10000287-1885714200-1885721400@princeofpeace-er.org
SUMMARY:Quilters Meet
DESCRIPTION:You don’t have to be able to sew to help out.  We can use your help tying quilts together.  These quilts are donated around the world.
URL:https://princeofpeace-er.org/event/quilters-meet-2/2029-10-03/
LOCATION:Prince of Peace\, 5030 Hwy 70 W\, Eagle River\, WI\, 54521
END:VEVENT
BEGIN:VEVENT
DTSTART;TZID=America/Chicago:20291007T090000
DTEND;TZID=America/Chicago:20291007T100000
DTSTAMP:20260424T060129
CREATED:20260324T164241Z
LAST-MODIFIED:20260324T164241Z
UID:10000776-1886058000-1886061600@princeofpeace-er.org
SUMMARY:Sunday Worship Service
DESCRIPTION:
URL:https://princeofpeace-er.org/event/sunday-worship-service-2/2029-10-07/
LOCATION:Prince of Peace\, 5030 Hwy 70 W\, Eagle River\, WI\, 54521
END:VEVENT
BEGIN:VEVENT
DTSTART;TZID=America/Chicago:20291014T090000
DTEND;TZID=America/Chicago:20291014T100000
DTSTAMP:20260424T060129
CREATED:20260324T164241Z
LAST-MODIFIED:20260324T164241Z
UID:10000777-1886662800-1886666400@princeofpeace-er.org
SUMMARY:Sunday Worship Service
DESCRIPTION:
URL:https://princeofpeace-er.org/event/sunday-worship-service-2/2029-10-14/
LOCATION:Prince of Peace\, 5030 Hwy 70 W\, Eagle River\, WI\, 54521
END:VEVENT
BEGIN:VEVENT
DTSTART;TZID=America/Chicago:20291017T093000
DTEND;TZID=America/Chicago:20291017T233000
DTSTAMP:20260424T060129
CREATED:20250514T174456Z
LAST-MODIFIED:20250514T174456Z
UID:10000228-1886923800-1886974200@princeofpeace-er.org
SUMMARY:Quilters Meet
DESCRIPTION:You don’t have to be able to sew to help out.  We can use your help in tying quilts together to be donated around the globe.
URL:https://princeofpeace-er.org/event/quilters-meet/2029-10-17/
LOCATION:Prince of Peace\, 5030 Hwy 70 W\, Eagle River\, WI\, 54521
END:VEVENT
BEGIN:VEVENT
DTSTART;TZID=America/Chicago:20291021T090000
DTEND;TZID=America/Chicago:20291021T100000
DTSTAMP:20260424T060129
CREATED:20260324T164241Z
LAST-MODIFIED:20260324T164241Z
UID:10000778-1887267600-1887271200@princeofpeace-er.org
SUMMARY:Sunday Worship Service
DESCRIPTION:
URL:https://princeofpeace-er.org/event/sunday-worship-service-2/2029-10-21/
LOCATION:Prince of Peace\, 5030 Hwy 70 W\, Eagle River\, WI\, 54521
END:VEVENT
BEGIN:VEVENT
DTSTART;TZID=America/Chicago:20291028T090000
DTEND;TZID=America/Chicago:20291028T100000
DTSTAMP:20260424T060129
CREATED:20260324T164241Z
LAST-MODIFIED:20260324T164241Z
UID:10000779-1887872400-1887876000@princeofpeace-er.org
SUMMARY:Sunday Worship Service
DESCRIPTION:
URL:https://princeofpeace-er.org/event/sunday-worship-service-2/2029-10-28/
LOCATION:Prince of Peace\, 5030 Hwy 70 W\, Eagle River\, WI\, 54521
END:VEVENT
BEGIN:VEVENT
DTSTART;TZID=America/Chicago:20291104T090000
DTEND;TZID=America/Chicago:20291104T100000
DTSTAMP:20260424T060129
CREATED:20260324T164241Z
LAST-MODIFIED:20260324T164241Z
UID:10000780-1888477200-1888480800@princeofpeace-er.org
SUMMARY:Sunday Worship Service
DESCRIPTION:
URL:https://princeofpeace-er.org/event/sunday-worship-service-2/2029-11-04/
LOCATION:Prince of Peace\, 5030 Hwy 70 W\, Eagle River\, WI\, 54521
END:VEVENT
BEGIN:VEVENT
DTSTART;TZID=America/Chicago:20291107T093000
DTEND;TZID=America/Chicago:20291107T113000
DTSTAMP:20260424T060129
CREATED:20250514T174634Z
LAST-MODIFIED:20250514T174634Z
UID:10000288-1888738200-1888745400@princeofpeace-er.org
SUMMARY:Quilters Meet
DESCRIPTION:You don’t have to be able to sew to help out.  We can use your help tying quilts together.  These quilts are donated around the world.
URL:https://princeofpeace-er.org/event/quilters-meet-2/2029-11-07/
LOCATION:Prince of Peace\, 5030 Hwy 70 W\, Eagle River\, WI\, 54521
END:VEVENT
BEGIN:VEVENT
DTSTART;TZID=America/Chicago:20291111T090000
DTEND;TZID=America/Chicago:20291111T100000
DTSTAMP:20260424T060129
CREATED:20260324T164241Z
LAST-MODIFIED:20260324T164241Z
UID:10000781-1889082000-1889085600@princeofpeace-er.org
SUMMARY:Sunday Worship Service
DESCRIPTION:
URL:https://princeofpeace-er.org/event/sunday-worship-service-2/2029-11-11/
LOCATION:Prince of Peace\, 5030 Hwy 70 W\, Eagle River\, WI\, 54521
END:VEVENT
BEGIN:VEVENT
DTSTART;TZID=America/Chicago:20291118T090000
DTEND;TZID=America/Chicago:20291118T100000
DTSTAMP:20260424T060129
CREATED:20260324T164241Z
LAST-MODIFIED:20260324T164241Z
UID:10000782-1889686800-1889690400@princeofpeace-er.org
SUMMARY:Sunday Worship Service
DESCRIPTION:
URL:https://princeofpeace-er.org/event/sunday-worship-service-2/2029-11-18/
LOCATION:Prince of Peace\, 5030 Hwy 70 W\, Eagle River\, WI\, 54521
END:VEVENT
BEGIN:VEVENT
DTSTART;TZID=America/Chicago:20291121T093000
DTEND;TZID=America/Chicago:20291121T233000
DTSTAMP:20260424T060129
CREATED:20250514T174456Z
LAST-MODIFIED:20250514T174456Z
UID:10000229-1889947800-1889998200@princeofpeace-er.org
SUMMARY:Quilters Meet
DESCRIPTION:You don’t have to be able to sew to help out.  We can use your help in tying quilts together to be donated around the globe.
URL:https://princeofpeace-er.org/event/quilters-meet/2029-11-21/
LOCATION:Prince of Peace\, 5030 Hwy 70 W\, Eagle River\, WI\, 54521
END:VEVENT
BEGIN:VEVENT
DTSTART;TZID=America/Chicago:20291125T090000
DTEND;TZID=America/Chicago:20291125T100000
DTSTAMP:20260424T060129
CREATED:20260324T164241Z
LAST-MODIFIED:20260324T164241Z
UID:10000783-1890291600-1890295200@princeofpeace-er.org
SUMMARY:Sunday Worship Service
DESCRIPTION:
URL:https://princeofpeace-er.org/event/sunday-worship-service-2/2029-11-25/
LOCATION:Prince of Peace\, 5030 Hwy 70 W\, Eagle River\, WI\, 54521
END:VEVENT
BEGIN:VEVENT
DTSTART;TZID=America/Chicago:20291202T090000
DTEND;TZID=America/Chicago:20291202T100000
DTSTAMP:20260424T060129
CREATED:20260324T164241Z
LAST-MODIFIED:20260324T164241Z
UID:10000784-1890896400-1890900000@princeofpeace-er.org
SUMMARY:Sunday Worship Service
DESCRIPTION:
URL:https://princeofpeace-er.org/event/sunday-worship-service-2/2029-12-02/
LOCATION:Prince of Peace\, 5030 Hwy 70 W\, Eagle River\, WI\, 54521
END:VEVENT
BEGIN:VEVENT
DTSTART;TZID=America/Chicago:20291205T093000
DTEND;TZID=America/Chicago:20291205T113000
DTSTAMP:20260424T060129
CREATED:20250514T174634Z
LAST-MODIFIED:20250514T174634Z
UID:10000289-1891157400-1891164600@princeofpeace-er.org
SUMMARY:Quilters Meet
DESCRIPTION:You don’t have to be able to sew to help out.  We can use your help tying quilts together.  These quilts are donated around the world.
URL:https://princeofpeace-er.org/event/quilters-meet-2/2029-12-05/
LOCATION:Prince of Peace\, 5030 Hwy 70 W\, Eagle River\, WI\, 54521
END:VEVENT
BEGIN:VEVENT
DTSTART;TZID=America/Chicago:20291209T090000
DTEND;TZID=America/Chicago:20291209T100000
DTSTAMP:20260424T060129
CREATED:20260324T164241Z
LAST-MODIFIED:20260324T164241Z
UID:10000785-1891501200-1891504800@princeofpeace-er.org
SUMMARY:Sunday Worship Service
DESCRIPTION:
URL:https://princeofpeace-er.org/event/sunday-worship-service-2/2029-12-09/
LOCATION:Prince of Peace\, 5030 Hwy 70 W\, Eagle River\, WI\, 54521
END:VEVENT
BEGIN:VEVENT
DTSTART;TZID=America/Chicago:20291216T090000
DTEND;TZID=America/Chicago:20291216T100000
DTSTAMP:20260424T060129
CREATED:20260324T164241Z
LAST-MODIFIED:20260324T164241Z
UID:10000786-1892106000-1892109600@princeofpeace-er.org
SUMMARY:Sunday Worship Service
DESCRIPTION:
URL:https://princeofpeace-er.org/event/sunday-worship-service-2/2029-12-16/
LOCATION:Prince of Peace\, 5030 Hwy 70 W\, Eagle River\, WI\, 54521
END:VEVENT
BEGIN:VEVENT
DTSTART;TZID=America/Chicago:20291219T093000
DTEND;TZID=America/Chicago:20291219T233000
DTSTAMP:20260424T060129
CREATED:20250514T174456Z
LAST-MODIFIED:20250514T174456Z
UID:10000230-1892367000-1892417400@princeofpeace-er.org
SUMMARY:Quilters Meet
DESCRIPTION:You don’t have to be able to sew to help out.  We can use your help in tying quilts together to be donated around the globe.
URL:https://princeofpeace-er.org/event/quilters-meet/2029-12-19/
LOCATION:Prince of Peace\, 5030 Hwy 70 W\, Eagle River\, WI\, 54521
END:VEVENT
BEGIN:VEVENT
DTSTART;TZID=America/Chicago:20291223T090000
DTEND;TZID=America/Chicago:20291223T100000
DTSTAMP:20260424T060129
CREATED:20260324T164241Z
LAST-MODIFIED:20260324T164241Z
UID:10000787-1892710800-1892714400@princeofpeace-er.org
SUMMARY:Sunday Worship Service
DESCRIPTION:
URL:https://princeofpeace-er.org/event/sunday-worship-service-2/2029-12-23/
LOCATION:Prince of Peace\, 5030 Hwy 70 W\, Eagle River\, WI\, 54521
END:VEVENT
BEGIN:VEVENT
DTSTART;TZID=America/Chicago:20291230T090000
DTEND;TZID=America/Chicago:20291230T100000
DTSTAMP:20260424T060129
CREATED:20260324T164241Z
LAST-MODIFIED:20260324T164241Z
UID:10000788-1893315600-1893319200@princeofpeace-er.org
SUMMARY:Sunday Worship Service
DESCRIPTION:
URL:https://princeofpeace-er.org/event/sunday-worship-service-2/2029-12-30/
LOCATION:Prince of Peace\, 5030 Hwy 70 W\, Eagle River\, WI\, 54521
END:VEVENT
BEGIN:VEVENT
DTSTART;TZID=America/Chicago:20300102T093000
DTEND;TZID=America/Chicago:20300102T113000
DTSTAMP:20260424T060129
CREATED:20250514T174634Z
LAST-MODIFIED:20250514T174634Z
UID:10000290-1893576600-1893583800@princeofpeace-er.org
SUMMARY:Quilters Meet
DESCRIPTION:You don’t have to be able to sew to help out.  We can use your help tying quilts together.  These quilts are donated around the world.
URL:https://princeofpeace-er.org/event/quilters-meet-2/2030-01-02/
LOCATION:Prince of Peace\, 5030 Hwy 70 W\, Eagle River\, WI\, 54521
END:VEVENT
BEGIN:VEVENT
DTSTART;TZID=America/Chicago:20300106T090000
DTEND;TZID=America/Chicago:20300106T100000
DTSTAMP:20260424T060129
CREATED:20260324T164241Z
LAST-MODIFIED:20260324T164241Z
UID:10000789-1893920400-1893924000@princeofpeace-er.org
SUMMARY:Sunday Worship Service
DESCRIPTION:
URL:https://princeofpeace-er.org/event/sunday-worship-service-2/2030-01-06/
LOCATION:Prince of Peace\, 5030 Hwy 70 W\, Eagle River\, WI\, 54521
END:VEVENT
BEGIN:VEVENT
DTSTART;TZID=America/Chicago:20300113T090000
DTEND;TZID=America/Chicago:20300113T100000
DTSTAMP:20260424T060129
CREATED:20260324T164241Z
LAST-MODIFIED:20260324T164241Z
UID:10000790-1894525200-1894528800@princeofpeace-er.org
SUMMARY:Sunday Worship Service
DESCRIPTION:
URL:https://princeofpeace-er.org/event/sunday-worship-service-2/2030-01-13/
LOCATION:Prince of Peace\, 5030 Hwy 70 W\, Eagle River\, WI\, 54521
END:VEVENT
BEGIN:VEVENT
DTSTART;TZID=America/Chicago:20300116T093000
DTEND;TZID=America/Chicago:20300116T233000
DTSTAMP:20260424T060129
CREATED:20250514T174456Z
LAST-MODIFIED:20250514T174456Z
UID:10000231-1894786200-1894836600@princeofpeace-er.org
SUMMARY:Quilters Meet
DESCRIPTION:You don’t have to be able to sew to help out.  We can use your help in tying quilts together to be donated around the globe.
URL:https://princeofpeace-er.org/event/quilters-meet/2030-01-16/
LOCATION:Prince of Peace\, 5030 Hwy 70 W\, Eagle River\, WI\, 54521
END:VEVENT
END:VCALENDAR