BEGIN:VCALENDAR
VERSION:2.0
PRODID:-//Prince of Peace Lutheran Church Eagle River - ECPv6.15.20//NONSGML v1.0//EN
CALSCALE:GREGORIAN
METHOD:PUBLISH
X-WR-CALNAME:Prince of Peace Lutheran Church Eagle River
X-ORIGINAL-URL:https://princeofpeace-er.org
X-WR-CALDESC:Events for Prince of Peace Lutheran Church Eagle River
REFRESH-INTERVAL;VALUE=DURATION:PT1H
X-Robots-Tag:noindex
X-PUBLISHED-TTL:PT1H
BEGIN:VTIMEZONE
TZID:America/Chicago
BEGIN:DAYLIGHT
TZOFFSETFROM:-0600
TZOFFSETTO:-0500
TZNAME:CDT
DTSTART:20290311T080000
END:DAYLIGHT
BEGIN:STANDARD
TZOFFSETFROM:-0500
TZOFFSETTO:-0600
TZNAME:CST
DTSTART:20291104T070000
END:STANDARD
BEGIN:DAYLIGHT
TZOFFSETFROM:-0600
TZOFFSETTO:-0500
TZNAME:CDT
DTSTART:20300310T080000
END:DAYLIGHT
BEGIN:STANDARD
TZOFFSETFROM:-0500
TZOFFSETTO:-0600
TZNAME:CST
DTSTART:20301103T070000
END:STANDARD
BEGIN:DAYLIGHT
TZOFFSETFROM:-0600
TZOFFSETTO:-0500
TZNAME:CDT
DTSTART:20310309T080000
END:DAYLIGHT
BEGIN:STANDARD
TZOFFSETFROM:-0500
TZOFFSETTO:-0600
TZNAME:CST
DTSTART:20311102T070000
END:STANDARD
END:VTIMEZONE
BEGIN:VEVENT
DTSTART;TZID=America/Chicago:20300116T093000
DTEND;TZID=America/Chicago:20300116T233000
DTSTAMP:20260425T070037
CREATED:20250514T174456Z
LAST-MODIFIED:20250514T174456Z
UID:10000231-1894786200-1894836600@princeofpeace-er.org
SUMMARY:Quilters Meet
DESCRIPTION:You don’t have to be able to sew to help out.  We can use your help in tying quilts together to be donated around the globe.
URL:https://princeofpeace-er.org/event/quilters-meet/2030-01-16/
LOCATION:Prince of Peace\, 5030 Hwy 70 W\, Eagle River\, WI\, 54521
END:VEVENT
BEGIN:VEVENT
DTSTART;TZID=America/Chicago:20300120T090000
DTEND;TZID=America/Chicago:20300120T100000
DTSTAMP:20260425T070037
CREATED:20260324T164241Z
LAST-MODIFIED:20260324T164241Z
UID:10000791-1895130000-1895133600@princeofpeace-er.org
SUMMARY:Sunday Worship Service
DESCRIPTION:
URL:https://princeofpeace-er.org/event/sunday-worship-service-2/2030-01-20/
LOCATION:Prince of Peace\, 5030 Hwy 70 W\, Eagle River\, WI\, 54521
END:VEVENT
BEGIN:VEVENT
DTSTART;TZID=America/Chicago:20300127T090000
DTEND;TZID=America/Chicago:20300127T100000
DTSTAMP:20260425T070037
CREATED:20260324T164241Z
LAST-MODIFIED:20260324T164241Z
UID:10000792-1895734800-1895738400@princeofpeace-er.org
SUMMARY:Sunday Worship Service
DESCRIPTION:
URL:https://princeofpeace-er.org/event/sunday-worship-service-2/2030-01-27/
LOCATION:Prince of Peace\, 5030 Hwy 70 W\, Eagle River\, WI\, 54521
END:VEVENT
BEGIN:VEVENT
DTSTART;TZID=America/Chicago:20300203T090000
DTEND;TZID=America/Chicago:20300203T100000
DTSTAMP:20260425T070037
CREATED:20260324T164241Z
LAST-MODIFIED:20260324T164241Z
UID:10000793-1896339600-1896343200@princeofpeace-er.org
SUMMARY:Sunday Worship Service
DESCRIPTION:
URL:https://princeofpeace-er.org/event/sunday-worship-service-2/2030-02-03/
LOCATION:Prince of Peace\, 5030 Hwy 70 W\, Eagle River\, WI\, 54521
END:VEVENT
BEGIN:VEVENT
DTSTART;TZID=America/Chicago:20300206T093000
DTEND;TZID=America/Chicago:20300206T113000
DTSTAMP:20260425T070037
CREATED:20250514T174634Z
LAST-MODIFIED:20250514T174634Z
UID:10000291-1896600600-1896607800@princeofpeace-er.org
SUMMARY:Quilters Meet
DESCRIPTION:You don’t have to be able to sew to help out.  We can use your help tying quilts together.  These quilts are donated around the world.
URL:https://princeofpeace-er.org/event/quilters-meet-2/2030-02-06/
LOCATION:Prince of Peace\, 5030 Hwy 70 W\, Eagle River\, WI\, 54521
END:VEVENT
BEGIN:VEVENT
DTSTART;TZID=America/Chicago:20300210T090000
DTEND;TZID=America/Chicago:20300210T100000
DTSTAMP:20260425T070037
CREATED:20260324T164241Z
LAST-MODIFIED:20260324T164241Z
UID:10000794-1896944400-1896948000@princeofpeace-er.org
SUMMARY:Sunday Worship Service
DESCRIPTION:
URL:https://princeofpeace-er.org/event/sunday-worship-service-2/2030-02-10/
LOCATION:Prince of Peace\, 5030 Hwy 70 W\, Eagle River\, WI\, 54521
END:VEVENT
BEGIN:VEVENT
DTSTART;TZID=America/Chicago:20300217T090000
DTEND;TZID=America/Chicago:20300217T100000
DTSTAMP:20260425T070037
CREATED:20260324T164241Z
LAST-MODIFIED:20260324T164241Z
UID:10000795-1897549200-1897552800@princeofpeace-er.org
SUMMARY:Sunday Worship Service
DESCRIPTION:
URL:https://princeofpeace-er.org/event/sunday-worship-service-2/2030-02-17/
LOCATION:Prince of Peace\, 5030 Hwy 70 W\, Eagle River\, WI\, 54521
END:VEVENT
BEGIN:VEVENT
DTSTART;TZID=America/Chicago:20300220T093000
DTEND;TZID=America/Chicago:20300220T233000
DTSTAMP:20260425T070037
CREATED:20250514T174456Z
LAST-MODIFIED:20250514T174456Z
UID:10000232-1897810200-1897860600@princeofpeace-er.org
SUMMARY:Quilters Meet
DESCRIPTION:You don’t have to be able to sew to help out.  We can use your help in tying quilts together to be donated around the globe.
URL:https://princeofpeace-er.org/event/quilters-meet/2030-02-20/
LOCATION:Prince of Peace\, 5030 Hwy 70 W\, Eagle River\, WI\, 54521
END:VEVENT
BEGIN:VEVENT
DTSTART;TZID=America/Chicago:20300224T090000
DTEND;TZID=America/Chicago:20300224T100000
DTSTAMP:20260425T070037
CREATED:20260324T164241Z
LAST-MODIFIED:20260324T164241Z
UID:10000796-1898154000-1898157600@princeofpeace-er.org
SUMMARY:Sunday Worship Service
DESCRIPTION:
URL:https://princeofpeace-er.org/event/sunday-worship-service-2/2030-02-24/
LOCATION:Prince of Peace\, 5030 Hwy 70 W\, Eagle River\, WI\, 54521
END:VEVENT
BEGIN:VEVENT
DTSTART;TZID=America/Chicago:20300303T090000
DTEND;TZID=America/Chicago:20300303T100000
DTSTAMP:20260425T070037
CREATED:20260324T164241Z
LAST-MODIFIED:20260324T164241Z
UID:10000797-1898758800-1898762400@princeofpeace-er.org
SUMMARY:Sunday Worship Service
DESCRIPTION:
URL:https://princeofpeace-er.org/event/sunday-worship-service-2/2030-03-03/
LOCATION:Prince of Peace\, 5030 Hwy 70 W\, Eagle River\, WI\, 54521
END:VEVENT
BEGIN:VEVENT
DTSTART;TZID=America/Chicago:20300306T093000
DTEND;TZID=America/Chicago:20300306T113000
DTSTAMP:20260425T070037
CREATED:20250514T174634Z
LAST-MODIFIED:20250514T174634Z
UID:10000292-1899019800-1899027000@princeofpeace-er.org
SUMMARY:Quilters Meet
DESCRIPTION:You don’t have to be able to sew to help out.  We can use your help tying quilts together.  These quilts are donated around the world.
URL:https://princeofpeace-er.org/event/quilters-meet-2/2030-03-06/
LOCATION:Prince of Peace\, 5030 Hwy 70 W\, Eagle River\, WI\, 54521
END:VEVENT
BEGIN:VEVENT
DTSTART;TZID=America/Chicago:20300310T090000
DTEND;TZID=America/Chicago:20300310T100000
DTSTAMP:20260425T070037
CREATED:20260324T164241Z
LAST-MODIFIED:20260324T164241Z
UID:10000798-1899363600-1899367200@princeofpeace-er.org
SUMMARY:Sunday Worship Service
DESCRIPTION:
URL:https://princeofpeace-er.org/event/sunday-worship-service-2/2030-03-10/
LOCATION:Prince of Peace\, 5030 Hwy 70 W\, Eagle River\, WI\, 54521
END:VEVENT
BEGIN:VEVENT
DTSTART;TZID=America/Chicago:20300317T090000
DTEND;TZID=America/Chicago:20300317T100000
DTSTAMP:20260425T070037
CREATED:20260324T164241Z
LAST-MODIFIED:20260324T164241Z
UID:10000799-1899968400-1899972000@princeofpeace-er.org
SUMMARY:Sunday Worship Service
DESCRIPTION:
URL:https://princeofpeace-er.org/event/sunday-worship-service-2/2030-03-17/
LOCATION:Prince of Peace\, 5030 Hwy 70 W\, Eagle River\, WI\, 54521
END:VEVENT
BEGIN:VEVENT
DTSTART;TZID=America/Chicago:20300320T093000
DTEND;TZID=America/Chicago:20300320T233000
DTSTAMP:20260425T070037
CREATED:20250514T174456Z
LAST-MODIFIED:20250514T174456Z
UID:10000233-1900229400-1900279800@princeofpeace-er.org
SUMMARY:Quilters Meet
DESCRIPTION:You don’t have to be able to sew to help out.  We can use your help in tying quilts together to be donated around the globe.
URL:https://princeofpeace-er.org/event/quilters-meet/2030-03-20/
LOCATION:Prince of Peace\, 5030 Hwy 70 W\, Eagle River\, WI\, 54521
END:VEVENT
BEGIN:VEVENT
DTSTART;TZID=America/Chicago:20300324T090000
DTEND;TZID=America/Chicago:20300324T100000
DTSTAMP:20260425T070037
CREATED:20260324T164241Z
LAST-MODIFIED:20260324T164241Z
UID:10000800-1900573200-1900576800@princeofpeace-er.org
SUMMARY:Sunday Worship Service
DESCRIPTION:
URL:https://princeofpeace-er.org/event/sunday-worship-service-2/2030-03-24/
LOCATION:Prince of Peace\, 5030 Hwy 70 W\, Eagle River\, WI\, 54521
END:VEVENT
BEGIN:VEVENT
DTSTART;TZID=America/Chicago:20300331T090000
DTEND;TZID=America/Chicago:20300331T100000
DTSTAMP:20260425T070037
CREATED:20260324T164241Z
LAST-MODIFIED:20260324T164241Z
UID:10000801-1901178000-1901181600@princeofpeace-er.org
SUMMARY:Sunday Worship Service
DESCRIPTION:
URL:https://princeofpeace-er.org/event/sunday-worship-service-2/2030-03-31/
LOCATION:Prince of Peace\, 5030 Hwy 70 W\, Eagle River\, WI\, 54521
END:VEVENT
BEGIN:VEVENT
DTSTART;TZID=America/Chicago:20300403T093000
DTEND;TZID=America/Chicago:20300403T113000
DTSTAMP:20260425T070037
CREATED:20250514T174634Z
LAST-MODIFIED:20250514T174634Z
UID:10000293-1901439000-1901446200@princeofpeace-er.org
SUMMARY:Quilters Meet
DESCRIPTION:You don’t have to be able to sew to help out.  We can use your help tying quilts together.  These quilts are donated around the world.
URL:https://princeofpeace-er.org/event/quilters-meet-2/2030-04-03/
LOCATION:Prince of Peace\, 5030 Hwy 70 W\, Eagle River\, WI\, 54521
END:VEVENT
BEGIN:VEVENT
DTSTART;TZID=America/Chicago:20300407T090000
DTEND;TZID=America/Chicago:20300407T100000
DTSTAMP:20260425T070037
CREATED:20260324T164241Z
LAST-MODIFIED:20260324T164241Z
UID:10000802-1901782800-1901786400@princeofpeace-er.org
SUMMARY:Sunday Worship Service
DESCRIPTION:
URL:https://princeofpeace-er.org/event/sunday-worship-service-2/2030-04-07/
LOCATION:Prince of Peace\, 5030 Hwy 70 W\, Eagle River\, WI\, 54521
END:VEVENT
BEGIN:VEVENT
DTSTART;TZID=America/Chicago:20300414T090000
DTEND;TZID=America/Chicago:20300414T100000
DTSTAMP:20260425T070037
CREATED:20260324T164241Z
LAST-MODIFIED:20260324T164241Z
UID:10000803-1902387600-1902391200@princeofpeace-er.org
SUMMARY:Sunday Worship Service
DESCRIPTION:
URL:https://princeofpeace-er.org/event/sunday-worship-service-2/2030-04-14/
LOCATION:Prince of Peace\, 5030 Hwy 70 W\, Eagle River\, WI\, 54521
END:VEVENT
BEGIN:VEVENT
DTSTART;TZID=America/Chicago:20300417T093000
DTEND;TZID=America/Chicago:20300417T233000
DTSTAMP:20260425T070037
CREATED:20250514T174456Z
LAST-MODIFIED:20250514T174456Z
UID:10000234-1902648600-1902699000@princeofpeace-er.org
SUMMARY:Quilters Meet
DESCRIPTION:You don’t have to be able to sew to help out.  We can use your help in tying quilts together to be donated around the globe.
URL:https://princeofpeace-er.org/event/quilters-meet/2030-04-17/
LOCATION:Prince of Peace\, 5030 Hwy 70 W\, Eagle River\, WI\, 54521
END:VEVENT
BEGIN:VEVENT
DTSTART;TZID=America/Chicago:20300421T090000
DTEND;TZID=America/Chicago:20300421T100000
DTSTAMP:20260425T070037
CREATED:20260324T164241Z
LAST-MODIFIED:20260324T164241Z
UID:10000804-1902992400-1902996000@princeofpeace-er.org
SUMMARY:Sunday Worship Service
DESCRIPTION:
URL:https://princeofpeace-er.org/event/sunday-worship-service-2/2030-04-21/
LOCATION:Prince of Peace\, 5030 Hwy 70 W\, Eagle River\, WI\, 54521
END:VEVENT
BEGIN:VEVENT
DTSTART;TZID=America/Chicago:20300428T090000
DTEND;TZID=America/Chicago:20300428T100000
DTSTAMP:20260425T070037
CREATED:20260324T164241Z
LAST-MODIFIED:20260324T164241Z
UID:10000805-1903597200-1903600800@princeofpeace-er.org
SUMMARY:Sunday Worship Service
DESCRIPTION:
URL:https://princeofpeace-er.org/event/sunday-worship-service-2/2030-04-28/
LOCATION:Prince of Peace\, 5030 Hwy 70 W\, Eagle River\, WI\, 54521
END:VEVENT
BEGIN:VEVENT
DTSTART;TZID=America/Chicago:20300501T093000
DTEND;TZID=America/Chicago:20300501T113000
DTSTAMP:20260425T070037
CREATED:20250514T174634Z
LAST-MODIFIED:20250514T174634Z
UID:10000294-1903858200-1903865400@princeofpeace-er.org
SUMMARY:Quilters Meet
DESCRIPTION:You don’t have to be able to sew to help out.  We can use your help tying quilts together.  These quilts are donated around the world.
URL:https://princeofpeace-er.org/event/quilters-meet-2/2030-05-01/
LOCATION:Prince of Peace\, 5030 Hwy 70 W\, Eagle River\, WI\, 54521
END:VEVENT
BEGIN:VEVENT
DTSTART;TZID=America/Chicago:20300505T090000
DTEND;TZID=America/Chicago:20300505T100000
DTSTAMP:20260425T070037
CREATED:20260324T164241Z
LAST-MODIFIED:20260324T164241Z
UID:10000806-1904202000-1904205600@princeofpeace-er.org
SUMMARY:Sunday Worship Service
DESCRIPTION:
URL:https://princeofpeace-er.org/event/sunday-worship-service-2/2030-05-05/
LOCATION:Prince of Peace\, 5030 Hwy 70 W\, Eagle River\, WI\, 54521
END:VEVENT
BEGIN:VEVENT
DTSTART;TZID=America/Chicago:20300512T090000
DTEND;TZID=America/Chicago:20300512T100000
DTSTAMP:20260425T070037
CREATED:20260324T164241Z
LAST-MODIFIED:20260324T164241Z
UID:10000807-1904806800-1904810400@princeofpeace-er.org
SUMMARY:Sunday Worship Service
DESCRIPTION:
URL:https://princeofpeace-er.org/event/sunday-worship-service-2/2030-05-12/
LOCATION:Prince of Peace\, 5030 Hwy 70 W\, Eagle River\, WI\, 54521
END:VEVENT
BEGIN:VEVENT
DTSTART;TZID=America/Chicago:20300519T090000
DTEND;TZID=America/Chicago:20300519T100000
DTSTAMP:20260425T070037
CREATED:20260324T164241Z
LAST-MODIFIED:20260324T164241Z
UID:10000808-1905411600-1905415200@princeofpeace-er.org
SUMMARY:Sunday Worship Service
DESCRIPTION:
URL:https://princeofpeace-er.org/event/sunday-worship-service-2/2030-05-19/
LOCATION:Prince of Peace\, 5030 Hwy 70 W\, Eagle River\, WI\, 54521
END:VEVENT
BEGIN:VEVENT
DTSTART;TZID=America/Chicago:20300526T090000
DTEND;TZID=America/Chicago:20300526T100000
DTSTAMP:20260425T070037
CREATED:20260324T164241Z
LAST-MODIFIED:20260324T164241Z
UID:10000809-1906016400-1906020000@princeofpeace-er.org
SUMMARY:Sunday Worship Service
DESCRIPTION:
URL:https://princeofpeace-er.org/event/sunday-worship-service-2/2030-05-26/
LOCATION:Prince of Peace\, 5030 Hwy 70 W\, Eagle River\, WI\, 54521
END:VEVENT
BEGIN:VEVENT
DTSTART;TZID=America/Chicago:20300602T090000
DTEND;TZID=America/Chicago:20300602T100000
DTSTAMP:20260425T070037
CREATED:20260324T164241Z
LAST-MODIFIED:20260324T164241Z
UID:10000810-1906621200-1906624800@princeofpeace-er.org
SUMMARY:Sunday Worship Service
DESCRIPTION:
URL:https://princeofpeace-er.org/event/sunday-worship-service-2/2030-06-02/
LOCATION:Prince of Peace\, 5030 Hwy 70 W\, Eagle River\, WI\, 54521
END:VEVENT
BEGIN:VEVENT
DTSTART;TZID=America/Chicago:20300609T090000
DTEND;TZID=America/Chicago:20300609T100000
DTSTAMP:20260425T070037
CREATED:20260324T164241Z
LAST-MODIFIED:20260324T164241Z
UID:10000811-1907226000-1907229600@princeofpeace-er.org
SUMMARY:Sunday Worship Service
DESCRIPTION:
URL:https://princeofpeace-er.org/event/sunday-worship-service-2/2030-06-09/
LOCATION:Prince of Peace\, 5030 Hwy 70 W\, Eagle River\, WI\, 54521
END:VEVENT
BEGIN:VEVENT
DTSTART;TZID=America/Chicago:20300616T090000
DTEND;TZID=America/Chicago:20300616T100000
DTSTAMP:20260425T070037
CREATED:20260324T164241Z
LAST-MODIFIED:20260324T164241Z
UID:10000812-1907830800-1907834400@princeofpeace-er.org
SUMMARY:Sunday Worship Service
DESCRIPTION:
URL:https://princeofpeace-er.org/event/sunday-worship-service-2/2030-06-16/
LOCATION:Prince of Peace\, 5030 Hwy 70 W\, Eagle River\, WI\, 54521
END:VEVENT
END:VCALENDAR