BEGIN:VCALENDAR
VERSION:2.0
PRODID:-//Prince of Peace Lutheran Church Eagle River - ECPv6.15.20//NONSGML v1.0//EN
CALSCALE:GREGORIAN
METHOD:PUBLISH
X-WR-CALNAME:Prince of Peace Lutheran Church Eagle River
X-ORIGINAL-URL:https://princeofpeace-er.org
X-WR-CALDESC:Events for Prince of Peace Lutheran Church Eagle River
REFRESH-INTERVAL;VALUE=DURATION:PT1H
X-Robots-Tag:noindex
X-PUBLISHED-TTL:PT1H
BEGIN:VTIMEZONE
TZID:America/Chicago
BEGIN:DAYLIGHT
TZOFFSETFROM:-0600
TZOFFSETTO:-0500
TZNAME:CDT
DTSTART:20290311T080000
END:DAYLIGHT
BEGIN:STANDARD
TZOFFSETFROM:-0500
TZOFFSETTO:-0600
TZNAME:CST
DTSTART:20291104T070000
END:STANDARD
BEGIN:DAYLIGHT
TZOFFSETFROM:-0600
TZOFFSETTO:-0500
TZNAME:CDT
DTSTART:20300310T080000
END:DAYLIGHT
BEGIN:STANDARD
TZOFFSETFROM:-0500
TZOFFSETTO:-0600
TZNAME:CST
DTSTART:20301103T070000
END:STANDARD
BEGIN:DAYLIGHT
TZOFFSETFROM:-0600
TZOFFSETTO:-0500
TZNAME:CDT
DTSTART:20310309T080000
END:DAYLIGHT
BEGIN:STANDARD
TZOFFSETFROM:-0500
TZOFFSETTO:-0600
TZNAME:CST
DTSTART:20311102T070000
END:STANDARD
END:VTIMEZONE
BEGIN:VEVENT
DTSTART;TZID=America/Chicago:20300417T093000
DTEND;TZID=America/Chicago:20300417T233000
DTSTAMP:20260425T085543
CREATED:20250514T174456Z
LAST-MODIFIED:20250514T174456Z
UID:10000234-1902648600-1902699000@princeofpeace-er.org
SUMMARY:Quilters Meet
DESCRIPTION:You don’t have to be able to sew to help out.  We can use your help in tying quilts together to be donated around the globe.
URL:https://princeofpeace-er.org/event/quilters-meet/2030-04-17/
LOCATION:Prince of Peace\, 5030 Hwy 70 W\, Eagle River\, WI\, 54521
END:VEVENT
BEGIN:VEVENT
DTSTART;TZID=America/Chicago:20300421T090000
DTEND;TZID=America/Chicago:20300421T100000
DTSTAMP:20260425T085543
CREATED:20260324T164241Z
LAST-MODIFIED:20260324T164241Z
UID:10000804-1902992400-1902996000@princeofpeace-er.org
SUMMARY:Sunday Worship Service
DESCRIPTION:
URL:https://princeofpeace-er.org/event/sunday-worship-service-2/2030-04-21/
LOCATION:Prince of Peace\, 5030 Hwy 70 W\, Eagle River\, WI\, 54521
END:VEVENT
BEGIN:VEVENT
DTSTART;TZID=America/Chicago:20300428T090000
DTEND;TZID=America/Chicago:20300428T100000
DTSTAMP:20260425T085543
CREATED:20260324T164241Z
LAST-MODIFIED:20260324T164241Z
UID:10000805-1903597200-1903600800@princeofpeace-er.org
SUMMARY:Sunday Worship Service
DESCRIPTION:
URL:https://princeofpeace-er.org/event/sunday-worship-service-2/2030-04-28/
LOCATION:Prince of Peace\, 5030 Hwy 70 W\, Eagle River\, WI\, 54521
END:VEVENT
BEGIN:VEVENT
DTSTART;TZID=America/Chicago:20300501T093000
DTEND;TZID=America/Chicago:20300501T113000
DTSTAMP:20260425T085543
CREATED:20250514T174634Z
LAST-MODIFIED:20250514T174634Z
UID:10000294-1903858200-1903865400@princeofpeace-er.org
SUMMARY:Quilters Meet
DESCRIPTION:You don’t have to be able to sew to help out.  We can use your help tying quilts together.  These quilts are donated around the world.
URL:https://princeofpeace-er.org/event/quilters-meet-2/2030-05-01/
LOCATION:Prince of Peace\, 5030 Hwy 70 W\, Eagle River\, WI\, 54521
END:VEVENT
BEGIN:VEVENT
DTSTART;TZID=America/Chicago:20300505T090000
DTEND;TZID=America/Chicago:20300505T100000
DTSTAMP:20260425T085543
CREATED:20260324T164241Z
LAST-MODIFIED:20260324T164241Z
UID:10000806-1904202000-1904205600@princeofpeace-er.org
SUMMARY:Sunday Worship Service
DESCRIPTION:
URL:https://princeofpeace-er.org/event/sunday-worship-service-2/2030-05-05/
LOCATION:Prince of Peace\, 5030 Hwy 70 W\, Eagle River\, WI\, 54521
END:VEVENT
BEGIN:VEVENT
DTSTART;TZID=America/Chicago:20300512T090000
DTEND;TZID=America/Chicago:20300512T100000
DTSTAMP:20260425T085543
CREATED:20260324T164241Z
LAST-MODIFIED:20260324T164241Z
UID:10000807-1904806800-1904810400@princeofpeace-er.org
SUMMARY:Sunday Worship Service
DESCRIPTION:
URL:https://princeofpeace-er.org/event/sunday-worship-service-2/2030-05-12/
LOCATION:Prince of Peace\, 5030 Hwy 70 W\, Eagle River\, WI\, 54521
END:VEVENT
BEGIN:VEVENT
DTSTART;TZID=America/Chicago:20300519T090000
DTEND;TZID=America/Chicago:20300519T100000
DTSTAMP:20260425T085543
CREATED:20260324T164241Z
LAST-MODIFIED:20260324T164241Z
UID:10000808-1905411600-1905415200@princeofpeace-er.org
SUMMARY:Sunday Worship Service
DESCRIPTION:
URL:https://princeofpeace-er.org/event/sunday-worship-service-2/2030-05-19/
LOCATION:Prince of Peace\, 5030 Hwy 70 W\, Eagle River\, WI\, 54521
END:VEVENT
BEGIN:VEVENT
DTSTART;TZID=America/Chicago:20300526T090000
DTEND;TZID=America/Chicago:20300526T100000
DTSTAMP:20260425T085543
CREATED:20260324T164241Z
LAST-MODIFIED:20260324T164241Z
UID:10000809-1906016400-1906020000@princeofpeace-er.org
SUMMARY:Sunday Worship Service
DESCRIPTION:
URL:https://princeofpeace-er.org/event/sunday-worship-service-2/2030-05-26/
LOCATION:Prince of Peace\, 5030 Hwy 70 W\, Eagle River\, WI\, 54521
END:VEVENT
BEGIN:VEVENT
DTSTART;TZID=America/Chicago:20300602T090000
DTEND;TZID=America/Chicago:20300602T100000
DTSTAMP:20260425T085543
CREATED:20260324T164241Z
LAST-MODIFIED:20260324T164241Z
UID:10000810-1906621200-1906624800@princeofpeace-er.org
SUMMARY:Sunday Worship Service
DESCRIPTION:
URL:https://princeofpeace-er.org/event/sunday-worship-service-2/2030-06-02/
LOCATION:Prince of Peace\, 5030 Hwy 70 W\, Eagle River\, WI\, 54521
END:VEVENT
BEGIN:VEVENT
DTSTART;TZID=America/Chicago:20300609T090000
DTEND;TZID=America/Chicago:20300609T100000
DTSTAMP:20260425T085543
CREATED:20260324T164241Z
LAST-MODIFIED:20260324T164241Z
UID:10000811-1907226000-1907229600@princeofpeace-er.org
SUMMARY:Sunday Worship Service
DESCRIPTION:
URL:https://princeofpeace-er.org/event/sunday-worship-service-2/2030-06-09/
LOCATION:Prince of Peace\, 5030 Hwy 70 W\, Eagle River\, WI\, 54521
END:VEVENT
BEGIN:VEVENT
DTSTART;TZID=America/Chicago:20300616T090000
DTEND;TZID=America/Chicago:20300616T100000
DTSTAMP:20260425T085543
CREATED:20260324T164241Z
LAST-MODIFIED:20260324T164241Z
UID:10000812-1907830800-1907834400@princeofpeace-er.org
SUMMARY:Sunday Worship Service
DESCRIPTION:
URL:https://princeofpeace-er.org/event/sunday-worship-service-2/2030-06-16/
LOCATION:Prince of Peace\, 5030 Hwy 70 W\, Eagle River\, WI\, 54521
END:VEVENT
BEGIN:VEVENT
DTSTART;TZID=America/Chicago:20300623T090000
DTEND;TZID=America/Chicago:20300623T100000
DTSTAMP:20260425T085543
CREATED:20260324T164241Z
LAST-MODIFIED:20260324T164241Z
UID:10000813-1908435600-1908439200@princeofpeace-er.org
SUMMARY:Sunday Worship Service
DESCRIPTION:
URL:https://princeofpeace-er.org/event/sunday-worship-service-2/2030-06-23/
LOCATION:Prince of Peace\, 5030 Hwy 70 W\, Eagle River\, WI\, 54521
END:VEVENT
BEGIN:VEVENT
DTSTART;TZID=America/Chicago:20300630T090000
DTEND;TZID=America/Chicago:20300630T100000
DTSTAMP:20260425T085543
CREATED:20260324T164241Z
LAST-MODIFIED:20260324T164241Z
UID:10000814-1909040400-1909044000@princeofpeace-er.org
SUMMARY:Sunday Worship Service
DESCRIPTION:
URL:https://princeofpeace-er.org/event/sunday-worship-service-2/2030-06-30/
LOCATION:Prince of Peace\, 5030 Hwy 70 W\, Eagle River\, WI\, 54521
END:VEVENT
BEGIN:VEVENT
DTSTART;TZID=America/Chicago:20300707T090000
DTEND;TZID=America/Chicago:20300707T100000
DTSTAMP:20260425T085543
CREATED:20260324T164241Z
LAST-MODIFIED:20260324T164241Z
UID:10000815-1909645200-1909648800@princeofpeace-er.org
SUMMARY:Sunday Worship Service
DESCRIPTION:
URL:https://princeofpeace-er.org/event/sunday-worship-service-2/2030-07-07/
LOCATION:Prince of Peace\, 5030 Hwy 70 W\, Eagle River\, WI\, 54521
END:VEVENT
BEGIN:VEVENT
DTSTART;TZID=America/Chicago:20300714T090000
DTEND;TZID=America/Chicago:20300714T100000
DTSTAMP:20260425T085543
CREATED:20260324T164241Z
LAST-MODIFIED:20260324T164241Z
UID:10000816-1910250000-1910253600@princeofpeace-er.org
SUMMARY:Sunday Worship Service
DESCRIPTION:
URL:https://princeofpeace-er.org/event/sunday-worship-service-2/2030-07-14/
LOCATION:Prince of Peace\, 5030 Hwy 70 W\, Eagle River\, WI\, 54521
END:VEVENT
BEGIN:VEVENT
DTSTART;TZID=America/Chicago:20300721T090000
DTEND;TZID=America/Chicago:20300721T100000
DTSTAMP:20260425T085543
CREATED:20260324T164241Z
LAST-MODIFIED:20260324T164241Z
UID:10000817-1910854800-1910858400@princeofpeace-er.org
SUMMARY:Sunday Worship Service
DESCRIPTION:
URL:https://princeofpeace-er.org/event/sunday-worship-service-2/2030-07-21/
LOCATION:Prince of Peace\, 5030 Hwy 70 W\, Eagle River\, WI\, 54521
END:VEVENT
BEGIN:VEVENT
DTSTART;TZID=America/Chicago:20300728T090000
DTEND;TZID=America/Chicago:20300728T100000
DTSTAMP:20260425T085543
CREATED:20260324T164241Z
LAST-MODIFIED:20260324T164241Z
UID:10000818-1911459600-1911463200@princeofpeace-er.org
SUMMARY:Sunday Worship Service
DESCRIPTION:
URL:https://princeofpeace-er.org/event/sunday-worship-service-2/2030-07-28/
LOCATION:Prince of Peace\, 5030 Hwy 70 W\, Eagle River\, WI\, 54521
END:VEVENT
BEGIN:VEVENT
DTSTART;TZID=America/Chicago:20300804T090000
DTEND;TZID=America/Chicago:20300804T100000
DTSTAMP:20260425T085543
CREATED:20260324T164241Z
LAST-MODIFIED:20260324T164241Z
UID:10000819-1912064400-1912068000@princeofpeace-er.org
SUMMARY:Sunday Worship Service
DESCRIPTION:
URL:https://princeofpeace-er.org/event/sunday-worship-service-2/2030-08-04/
LOCATION:Prince of Peace\, 5030 Hwy 70 W\, Eagle River\, WI\, 54521
END:VEVENT
BEGIN:VEVENT
DTSTART;TZID=America/Chicago:20300811T090000
DTEND;TZID=America/Chicago:20300811T100000
DTSTAMP:20260425T085543
CREATED:20260324T164241Z
LAST-MODIFIED:20260324T164241Z
UID:10000820-1912669200-1912672800@princeofpeace-er.org
SUMMARY:Sunday Worship Service
DESCRIPTION:
URL:https://princeofpeace-er.org/event/sunday-worship-service-2/2030-08-11/
LOCATION:Prince of Peace\, 5030 Hwy 70 W\, Eagle River\, WI\, 54521
END:VEVENT
BEGIN:VEVENT
DTSTART;TZID=America/Chicago:20300818T090000
DTEND;TZID=America/Chicago:20300818T100000
DTSTAMP:20260425T085543
CREATED:20260324T164241Z
LAST-MODIFIED:20260324T164241Z
UID:10000821-1913274000-1913277600@princeofpeace-er.org
SUMMARY:Sunday Worship Service
DESCRIPTION:
URL:https://princeofpeace-er.org/event/sunday-worship-service-2/2030-08-18/
LOCATION:Prince of Peace\, 5030 Hwy 70 W\, Eagle River\, WI\, 54521
END:VEVENT
BEGIN:VEVENT
DTSTART;TZID=America/Chicago:20300825T090000
DTEND;TZID=America/Chicago:20300825T100000
DTSTAMP:20260425T085543
CREATED:20260324T164241Z
LAST-MODIFIED:20260324T164241Z
UID:10000822-1913878800-1913882400@princeofpeace-er.org
SUMMARY:Sunday Worship Service
DESCRIPTION:
URL:https://princeofpeace-er.org/event/sunday-worship-service-2/2030-08-25/
LOCATION:Prince of Peace\, 5030 Hwy 70 W\, Eagle River\, WI\, 54521
END:VEVENT
BEGIN:VEVENT
DTSTART;TZID=America/Chicago:20300901T090000
DTEND;TZID=America/Chicago:20300901T100000
DTSTAMP:20260425T085543
CREATED:20260324T164241Z
LAST-MODIFIED:20260324T164241Z
UID:10000823-1914483600-1914487200@princeofpeace-er.org
SUMMARY:Sunday Worship Service
DESCRIPTION:
URL:https://princeofpeace-er.org/event/sunday-worship-service-2/2030-09-01/
LOCATION:Prince of Peace\, 5030 Hwy 70 W\, Eagle River\, WI\, 54521
END:VEVENT
BEGIN:VEVENT
DTSTART;TZID=America/Chicago:20300908T090000
DTEND;TZID=America/Chicago:20300908T100000
DTSTAMP:20260425T085543
CREATED:20260324T164241Z
LAST-MODIFIED:20260324T164241Z
UID:10000824-1915088400-1915092000@princeofpeace-er.org
SUMMARY:Sunday Worship Service
DESCRIPTION:
URL:https://princeofpeace-er.org/event/sunday-worship-service-2/2030-09-08/
LOCATION:Prince of Peace\, 5030 Hwy 70 W\, Eagle River\, WI\, 54521
END:VEVENT
BEGIN:VEVENT
DTSTART;TZID=America/Chicago:20300915T090000
DTEND;TZID=America/Chicago:20300915T100000
DTSTAMP:20260425T085543
CREATED:20260324T164241Z
LAST-MODIFIED:20260324T164241Z
UID:10000825-1915693200-1915696800@princeofpeace-er.org
SUMMARY:Sunday Worship Service
DESCRIPTION:
URL:https://princeofpeace-er.org/event/sunday-worship-service-2/2030-09-15/
LOCATION:Prince of Peace\, 5030 Hwy 70 W\, Eagle River\, WI\, 54521
END:VEVENT
BEGIN:VEVENT
DTSTART;TZID=America/Chicago:20300922T090000
DTEND;TZID=America/Chicago:20300922T100000
DTSTAMP:20260425T085543
CREATED:20260324T164241Z
LAST-MODIFIED:20260324T164241Z
UID:10000826-1916298000-1916301600@princeofpeace-er.org
SUMMARY:Sunday Worship Service
DESCRIPTION:
URL:https://princeofpeace-er.org/event/sunday-worship-service-2/2030-09-22/
LOCATION:Prince of Peace\, 5030 Hwy 70 W\, Eagle River\, WI\, 54521
END:VEVENT
BEGIN:VEVENT
DTSTART;TZID=America/Chicago:20300929T090000
DTEND;TZID=America/Chicago:20300929T100000
DTSTAMP:20260425T085543
CREATED:20260324T164241Z
LAST-MODIFIED:20260324T164241Z
UID:10000827-1916902800-1916906400@princeofpeace-er.org
SUMMARY:Sunday Worship Service
DESCRIPTION:
URL:https://princeofpeace-er.org/event/sunday-worship-service-2/2030-09-29/
LOCATION:Prince of Peace\, 5030 Hwy 70 W\, Eagle River\, WI\, 54521
END:VEVENT
BEGIN:VEVENT
DTSTART;TZID=America/Chicago:20301006T090000
DTEND;TZID=America/Chicago:20301006T100000
DTSTAMP:20260425T085543
CREATED:20260324T164241Z
LAST-MODIFIED:20260324T164241Z
UID:10000828-1917507600-1917511200@princeofpeace-er.org
SUMMARY:Sunday Worship Service
DESCRIPTION:
URL:https://princeofpeace-er.org/event/sunday-worship-service-2/2030-10-06/
LOCATION:Prince of Peace\, 5030 Hwy 70 W\, Eagle River\, WI\, 54521
END:VEVENT
BEGIN:VEVENT
DTSTART;TZID=America/Chicago:20301013T090000
DTEND;TZID=America/Chicago:20301013T100000
DTSTAMP:20260425T085543
CREATED:20260324T164241Z
LAST-MODIFIED:20260324T164241Z
UID:10000829-1918112400-1918116000@princeofpeace-er.org
SUMMARY:Sunday Worship Service
DESCRIPTION:
URL:https://princeofpeace-er.org/event/sunday-worship-service-2/2030-10-13/
LOCATION:Prince of Peace\, 5030 Hwy 70 W\, Eagle River\, WI\, 54521
END:VEVENT
BEGIN:VEVENT
DTSTART;TZID=America/Chicago:20301020T090000
DTEND;TZID=America/Chicago:20301020T100000
DTSTAMP:20260425T085543
CREATED:20260324T164241Z
LAST-MODIFIED:20260324T164241Z
UID:10000830-1918717200-1918720800@princeofpeace-er.org
SUMMARY:Sunday Worship Service
DESCRIPTION:
URL:https://princeofpeace-er.org/event/sunday-worship-service-2/2030-10-20/
LOCATION:Prince of Peace\, 5030 Hwy 70 W\, Eagle River\, WI\, 54521
END:VEVENT
BEGIN:VEVENT
DTSTART;TZID=America/Chicago:20301027T090000
DTEND;TZID=America/Chicago:20301027T100000
DTSTAMP:20260425T085543
CREATED:20260324T164241Z
LAST-MODIFIED:20260324T164241Z
UID:10000831-1919322000-1919325600@princeofpeace-er.org
SUMMARY:Sunday Worship Service
DESCRIPTION:
URL:https://princeofpeace-er.org/event/sunday-worship-service-2/2030-10-27/
LOCATION:Prince of Peace\, 5030 Hwy 70 W\, Eagle River\, WI\, 54521
END:VEVENT
END:VCALENDAR