BEGIN:VCALENDAR
VERSION:2.0
PRODID:-//Prince of Peace Lutheran Church Eagle River - ECPv6.15.20//NONSGML v1.0//EN
CALSCALE:GREGORIAN
METHOD:PUBLISH
X-ORIGINAL-URL:https://princeofpeace-er.org
X-WR-CALDESC:Events for Prince of Peace Lutheran Church Eagle River
REFRESH-INTERVAL;VALUE=DURATION:PT1H
X-Robots-Tag:noindex
X-PUBLISHED-TTL:PT1H
BEGIN:VTIMEZONE
TZID:America/Chicago
BEGIN:DAYLIGHT
TZOFFSETFROM:-0600
TZOFFSETTO:-0500
TZNAME:CDT
DTSTART:20290311T080000
END:DAYLIGHT
BEGIN:STANDARD
TZOFFSETFROM:-0500
TZOFFSETTO:-0600
TZNAME:CST
DTSTART:20291104T070000
END:STANDARD
BEGIN:DAYLIGHT
TZOFFSETFROM:-0600
TZOFFSETTO:-0500
TZNAME:CDT
DTSTART:20300310T080000
END:DAYLIGHT
BEGIN:STANDARD
TZOFFSETFROM:-0500
TZOFFSETTO:-0600
TZNAME:CST
DTSTART:20301103T070000
END:STANDARD
BEGIN:DAYLIGHT
TZOFFSETFROM:-0600
TZOFFSETTO:-0500
TZNAME:CDT
DTSTART:20310309T080000
END:DAYLIGHT
BEGIN:STANDARD
TZOFFSETFROM:-0500
TZOFFSETTO:-0600
TZNAME:CST
DTSTART:20311102T070000
END:STANDARD
BEGIN:DAYLIGHT
TZOFFSETFROM:-0600
TZOFFSETTO:-0500
TZNAME:CDT
DTSTART:20320314T080000
END:DAYLIGHT
BEGIN:STANDARD
TZOFFSETFROM:-0500
TZOFFSETTO:-0600
TZNAME:CST
DTSTART:20321107T070000
END:STANDARD
END:VTIMEZONE
BEGIN:VEVENT
DTSTART;TZID=America/Chicago:20300818T090000
DTEND;TZID=America/Chicago:20300818T100000
DTSTAMP:20260425T114859
CREATED:20260324T164241Z
LAST-MODIFIED:20260324T164241Z
UID:10000821-1913274000-1913277600@princeofpeace-er.org
SUMMARY:Sunday Worship Service
DESCRIPTION:
URL:https://princeofpeace-er.org/event/sunday-worship-service-2/2030-08-18/
LOCATION:Prince of Peace\, 5030 Hwy 70 W\, Eagle River\, WI\, 54521
END:VEVENT
BEGIN:VEVENT
DTSTART;TZID=America/Chicago:20300825T090000
DTEND;TZID=America/Chicago:20300825T100000
DTSTAMP:20260425T114859
CREATED:20260324T164241Z
LAST-MODIFIED:20260324T164241Z
UID:10000822-1913878800-1913882400@princeofpeace-er.org
SUMMARY:Sunday Worship Service
DESCRIPTION:
URL:https://princeofpeace-er.org/event/sunday-worship-service-2/2030-08-25/
LOCATION:Prince of Peace\, 5030 Hwy 70 W\, Eagle River\, WI\, 54521
END:VEVENT
BEGIN:VEVENT
DTSTART;TZID=America/Chicago:20300901T090000
DTEND;TZID=America/Chicago:20300901T100000
DTSTAMP:20260425T114859
CREATED:20260324T164241Z
LAST-MODIFIED:20260324T164241Z
UID:10000823-1914483600-1914487200@princeofpeace-er.org
SUMMARY:Sunday Worship Service
DESCRIPTION:
URL:https://princeofpeace-er.org/event/sunday-worship-service-2/2030-09-01/
LOCATION:Prince of Peace\, 5030 Hwy 70 W\, Eagle River\, WI\, 54521
END:VEVENT
BEGIN:VEVENT
DTSTART;TZID=America/Chicago:20300908T090000
DTEND;TZID=America/Chicago:20300908T100000
DTSTAMP:20260425T114859
CREATED:20260324T164241Z
LAST-MODIFIED:20260324T164241Z
UID:10000824-1915088400-1915092000@princeofpeace-er.org
SUMMARY:Sunday Worship Service
DESCRIPTION:
URL:https://princeofpeace-er.org/event/sunday-worship-service-2/2030-09-08/
LOCATION:Prince of Peace\, 5030 Hwy 70 W\, Eagle River\, WI\, 54521
END:VEVENT
BEGIN:VEVENT
DTSTART;TZID=America/Chicago:20300915T090000
DTEND;TZID=America/Chicago:20300915T100000
DTSTAMP:20260425T114859
CREATED:20260324T164241Z
LAST-MODIFIED:20260324T164241Z
UID:10000825-1915693200-1915696800@princeofpeace-er.org
SUMMARY:Sunday Worship Service
DESCRIPTION:
URL:https://princeofpeace-er.org/event/sunday-worship-service-2/2030-09-15/
LOCATION:Prince of Peace\, 5030 Hwy 70 W\, Eagle River\, WI\, 54521
END:VEVENT
BEGIN:VEVENT
DTSTART;TZID=America/Chicago:20300922T090000
DTEND;TZID=America/Chicago:20300922T100000
DTSTAMP:20260425T114859
CREATED:20260324T164241Z
LAST-MODIFIED:20260324T164241Z
UID:10000826-1916298000-1916301600@princeofpeace-er.org
SUMMARY:Sunday Worship Service
DESCRIPTION:
URL:https://princeofpeace-er.org/event/sunday-worship-service-2/2030-09-22/
LOCATION:Prince of Peace\, 5030 Hwy 70 W\, Eagle River\, WI\, 54521
END:VEVENT
BEGIN:VEVENT
DTSTART;TZID=America/Chicago:20300929T090000
DTEND;TZID=America/Chicago:20300929T100000
DTSTAMP:20260425T114859
CREATED:20260324T164241Z
LAST-MODIFIED:20260324T164241Z
UID:10000827-1916902800-1916906400@princeofpeace-er.org
SUMMARY:Sunday Worship Service
DESCRIPTION:
URL:https://princeofpeace-er.org/event/sunday-worship-service-2/2030-09-29/
LOCATION:Prince of Peace\, 5030 Hwy 70 W\, Eagle River\, WI\, 54521
END:VEVENT
BEGIN:VEVENT
DTSTART;TZID=America/Chicago:20301006T090000
DTEND;TZID=America/Chicago:20301006T100000
DTSTAMP:20260425T114859
CREATED:20260324T164241Z
LAST-MODIFIED:20260324T164241Z
UID:10000828-1917507600-1917511200@princeofpeace-er.org
SUMMARY:Sunday Worship Service
DESCRIPTION:
URL:https://princeofpeace-er.org/event/sunday-worship-service-2/2030-10-06/
LOCATION:Prince of Peace\, 5030 Hwy 70 W\, Eagle River\, WI\, 54521
END:VEVENT
BEGIN:VEVENT
DTSTART;TZID=America/Chicago:20301013T090000
DTEND;TZID=America/Chicago:20301013T100000
DTSTAMP:20260425T114859
CREATED:20260324T164241Z
LAST-MODIFIED:20260324T164241Z
UID:10000829-1918112400-1918116000@princeofpeace-er.org
SUMMARY:Sunday Worship Service
DESCRIPTION:
URL:https://princeofpeace-er.org/event/sunday-worship-service-2/2030-10-13/
LOCATION:Prince of Peace\, 5030 Hwy 70 W\, Eagle River\, WI\, 54521
END:VEVENT
BEGIN:VEVENT
DTSTART;TZID=America/Chicago:20301020T090000
DTEND;TZID=America/Chicago:20301020T100000
DTSTAMP:20260425T114859
CREATED:20260324T164241Z
LAST-MODIFIED:20260324T164241Z
UID:10000830-1918717200-1918720800@princeofpeace-er.org
SUMMARY:Sunday Worship Service
DESCRIPTION:
URL:https://princeofpeace-er.org/event/sunday-worship-service-2/2030-10-20/
LOCATION:Prince of Peace\, 5030 Hwy 70 W\, Eagle River\, WI\, 54521
END:VEVENT
BEGIN:VEVENT
DTSTART;TZID=America/Chicago:20301027T090000
DTEND;TZID=America/Chicago:20301027T100000
DTSTAMP:20260425T114859
CREATED:20260324T164241Z
LAST-MODIFIED:20260324T164241Z
UID:10000831-1919322000-1919325600@princeofpeace-er.org
SUMMARY:Sunday Worship Service
DESCRIPTION:
URL:https://princeofpeace-er.org/event/sunday-worship-service-2/2030-10-27/
LOCATION:Prince of Peace\, 5030 Hwy 70 W\, Eagle River\, WI\, 54521
END:VEVENT
BEGIN:VEVENT
DTSTART;TZID=America/Chicago:20301103T090000
DTEND;TZID=America/Chicago:20301103T100000
DTSTAMP:20260425T114859
CREATED:20260324T164241Z
LAST-MODIFIED:20260324T164241Z
UID:10000832-1919926800-1919930400@princeofpeace-er.org
SUMMARY:Sunday Worship Service
DESCRIPTION:
URL:https://princeofpeace-er.org/event/sunday-worship-service-2/2030-11-03/
LOCATION:Prince of Peace\, 5030 Hwy 70 W\, Eagle River\, WI\, 54521
END:VEVENT
BEGIN:VEVENT
DTSTART;TZID=America/Chicago:20301110T090000
DTEND;TZID=America/Chicago:20301110T100000
DTSTAMP:20260425T114859
CREATED:20260324T164241Z
LAST-MODIFIED:20260324T164241Z
UID:10000833-1920531600-1920535200@princeofpeace-er.org
SUMMARY:Sunday Worship Service
DESCRIPTION:
URL:https://princeofpeace-er.org/event/sunday-worship-service-2/2030-11-10/
LOCATION:Prince of Peace\, 5030 Hwy 70 W\, Eagle River\, WI\, 54521
END:VEVENT
BEGIN:VEVENT
DTSTART;TZID=America/Chicago:20301117T090000
DTEND;TZID=America/Chicago:20301117T100000
DTSTAMP:20260425T114859
CREATED:20260324T164241Z
LAST-MODIFIED:20260324T164241Z
UID:10000834-1921136400-1921140000@princeofpeace-er.org
SUMMARY:Sunday Worship Service
DESCRIPTION:
URL:https://princeofpeace-er.org/event/sunday-worship-service-2/2030-11-17/
LOCATION:Prince of Peace\, 5030 Hwy 70 W\, Eagle River\, WI\, 54521
END:VEVENT
BEGIN:VEVENT
DTSTART;TZID=America/Chicago:20301124T090000
DTEND;TZID=America/Chicago:20301124T100000
DTSTAMP:20260425T114859
CREATED:20260324T164241Z
LAST-MODIFIED:20260324T164241Z
UID:10000835-1921741200-1921744800@princeofpeace-er.org
SUMMARY:Sunday Worship Service
DESCRIPTION:
URL:https://princeofpeace-er.org/event/sunday-worship-service-2/2030-11-24/
LOCATION:Prince of Peace\, 5030 Hwy 70 W\, Eagle River\, WI\, 54521
END:VEVENT
BEGIN:VEVENT
DTSTART;TZID=America/Chicago:20301201T090000
DTEND;TZID=America/Chicago:20301201T100000
DTSTAMP:20260425T114859
CREATED:20260324T164241Z
LAST-MODIFIED:20260324T164241Z
UID:10000836-1922346000-1922349600@princeofpeace-er.org
SUMMARY:Sunday Worship Service
DESCRIPTION:
URL:https://princeofpeace-er.org/event/sunday-worship-service-2/2030-12-01/
LOCATION:Prince of Peace\, 5030 Hwy 70 W\, Eagle River\, WI\, 54521
END:VEVENT
BEGIN:VEVENT
DTSTART;TZID=America/Chicago:20301208T090000
DTEND;TZID=America/Chicago:20301208T100000
DTSTAMP:20260425T114859
CREATED:20260324T164241Z
LAST-MODIFIED:20260324T164241Z
UID:10000837-1922950800-1922954400@princeofpeace-er.org
SUMMARY:Sunday Worship Service
DESCRIPTION:
URL:https://princeofpeace-er.org/event/sunday-worship-service-2/2030-12-08/
LOCATION:Prince of Peace\, 5030 Hwy 70 W\, Eagle River\, WI\, 54521
END:VEVENT
BEGIN:VEVENT
DTSTART;TZID=America/Chicago:20301215T090000
DTEND;TZID=America/Chicago:20301215T100000
DTSTAMP:20260425T114859
CREATED:20260324T164241Z
LAST-MODIFIED:20260324T164241Z
UID:10000838-1923555600-1923559200@princeofpeace-er.org
SUMMARY:Sunday Worship Service
DESCRIPTION:
URL:https://princeofpeace-er.org/event/sunday-worship-service-2/2030-12-15/
LOCATION:Prince of Peace\, 5030 Hwy 70 W\, Eagle River\, WI\, 54521
END:VEVENT
BEGIN:VEVENT
DTSTART;TZID=America/Chicago:20301222T090000
DTEND;TZID=America/Chicago:20301222T100000
DTSTAMP:20260425T114859
CREATED:20260324T164241Z
LAST-MODIFIED:20260324T164241Z
UID:10000839-1924160400-1924164000@princeofpeace-er.org
SUMMARY:Sunday Worship Service
DESCRIPTION:
URL:https://princeofpeace-er.org/event/sunday-worship-service-2/2030-12-22/
LOCATION:Prince of Peace\, 5030 Hwy 70 W\, Eagle River\, WI\, 54521
END:VEVENT
BEGIN:VEVENT
DTSTART;TZID=America/Chicago:20301229T090000
DTEND;TZID=America/Chicago:20301229T100000
DTSTAMP:20260425T114859
CREATED:20260324T164241Z
LAST-MODIFIED:20260324T164241Z
UID:10000840-1924765200-1924768800@princeofpeace-er.org
SUMMARY:Sunday Worship Service
DESCRIPTION:
URL:https://princeofpeace-er.org/event/sunday-worship-service-2/2030-12-29/
LOCATION:Prince of Peace\, 5030 Hwy 70 W\, Eagle River\, WI\, 54521
END:VEVENT
BEGIN:VEVENT
DTSTART;TZID=America/Chicago:20310105T090000
DTEND;TZID=America/Chicago:20310105T100000
DTSTAMP:20260425T114859
CREATED:20260324T164241Z
LAST-MODIFIED:20260324T164241Z
UID:10000841-1925370000-1925373600@princeofpeace-er.org
SUMMARY:Sunday Worship Service
DESCRIPTION:
URL:https://princeofpeace-er.org/event/sunday-worship-service-2/2031-01-05/
LOCATION:Prince of Peace\, 5030 Hwy 70 W\, Eagle River\, WI\, 54521
END:VEVENT
BEGIN:VEVENT
DTSTART;TZID=America/Chicago:20310112T090000
DTEND;TZID=America/Chicago:20310112T100000
DTSTAMP:20260425T114859
CREATED:20260324T164241Z
LAST-MODIFIED:20260324T164241Z
UID:10000842-1925974800-1925978400@princeofpeace-er.org
SUMMARY:Sunday Worship Service
DESCRIPTION:
URL:https://princeofpeace-er.org/event/sunday-worship-service-2/2031-01-12/
LOCATION:Prince of Peace\, 5030 Hwy 70 W\, Eagle River\, WI\, 54521
END:VEVENT
BEGIN:VEVENT
DTSTART;TZID=America/Chicago:20310119T090000
DTEND;TZID=America/Chicago:20310119T100000
DTSTAMP:20260425T114859
CREATED:20260324T164241Z
LAST-MODIFIED:20260324T164241Z
UID:10000843-1926579600-1926583200@princeofpeace-er.org
SUMMARY:Sunday Worship Service
DESCRIPTION:
URL:https://princeofpeace-er.org/event/sunday-worship-service-2/2031-01-19/
LOCATION:Prince of Peace\, 5030 Hwy 70 W\, Eagle River\, WI\, 54521
END:VEVENT
BEGIN:VEVENT
DTSTART;TZID=America/Chicago:20310126T090000
DTEND;TZID=America/Chicago:20310126T100000
DTSTAMP:20260425T114859
CREATED:20260324T164241Z
LAST-MODIFIED:20260324T164241Z
UID:10000844-1927184400-1927188000@princeofpeace-er.org
SUMMARY:Sunday Worship Service
DESCRIPTION:
URL:https://princeofpeace-er.org/event/sunday-worship-service-2/2031-01-26/
LOCATION:Prince of Peace\, 5030 Hwy 70 W\, Eagle River\, WI\, 54521
END:VEVENT
BEGIN:VEVENT
DTSTART;TZID=America/Chicago:20310202T090000
DTEND;TZID=America/Chicago:20310202T100000
DTSTAMP:20260425T114859
CREATED:20260324T164241Z
LAST-MODIFIED:20260324T164241Z
UID:10000845-1927789200-1927792800@princeofpeace-er.org
SUMMARY:Sunday Worship Service
DESCRIPTION:
URL:https://princeofpeace-er.org/event/sunday-worship-service-2/2031-02-02/
LOCATION:Prince of Peace\, 5030 Hwy 70 W\, Eagle River\, WI\, 54521
END:VEVENT
BEGIN:VEVENT
DTSTART;TZID=America/Chicago:20310209T090000
DTEND;TZID=America/Chicago:20310209T100000
DTSTAMP:20260425T114859
CREATED:20260324T164241Z
LAST-MODIFIED:20260324T164241Z
UID:10000846-1928394000-1928397600@princeofpeace-er.org
SUMMARY:Sunday Worship Service
DESCRIPTION:
URL:https://princeofpeace-er.org/event/sunday-worship-service-2/2031-02-09/
LOCATION:Prince of Peace\, 5030 Hwy 70 W\, Eagle River\, WI\, 54521
END:VEVENT
BEGIN:VEVENT
DTSTART;TZID=America/Chicago:20310216T090000
DTEND;TZID=America/Chicago:20310216T100000
DTSTAMP:20260425T114859
CREATED:20260324T164241Z
LAST-MODIFIED:20260324T164241Z
UID:10000847-1928998800-1929002400@princeofpeace-er.org
SUMMARY:Sunday Worship Service
DESCRIPTION:
URL:https://princeofpeace-er.org/event/sunday-worship-service-2/2031-02-16/
LOCATION:Prince of Peace\, 5030 Hwy 70 W\, Eagle River\, WI\, 54521
END:VEVENT
BEGIN:VEVENT
DTSTART;TZID=America/Chicago:20310223T090000
DTEND;TZID=America/Chicago:20310223T100000
DTSTAMP:20260425T114859
CREATED:20260324T164241Z
LAST-MODIFIED:20260324T164241Z
UID:10000848-1929603600-1929607200@princeofpeace-er.org
SUMMARY:Sunday Worship Service
DESCRIPTION:
URL:https://princeofpeace-er.org/event/sunday-worship-service-2/2031-02-23/
LOCATION:Prince of Peace\, 5030 Hwy 70 W\, Eagle River\, WI\, 54521
END:VEVENT
BEGIN:VEVENT
DTSTART;TZID=America/Chicago:20310302T090000
DTEND;TZID=America/Chicago:20310302T100000
DTSTAMP:20260425T114859
CREATED:20260324T164241Z
LAST-MODIFIED:20260324T164241Z
UID:10000849-1930208400-1930212000@princeofpeace-er.org
SUMMARY:Sunday Worship Service
DESCRIPTION:
URL:https://princeofpeace-er.org/event/sunday-worship-service-2/2031-03-02/
LOCATION:Prince of Peace\, 5030 Hwy 70 W\, Eagle River\, WI\, 54521
END:VEVENT
BEGIN:VEVENT
DTSTART;TZID=America/Chicago:20310309T090000
DTEND;TZID=America/Chicago:20310309T100000
DTSTAMP:20260425T114859
CREATED:20260324T164241Z
LAST-MODIFIED:20260324T164241Z
UID:10000850-1930813200-1930816800@princeofpeace-er.org
SUMMARY:Sunday Worship Service
DESCRIPTION:
URL:https://princeofpeace-er.org/event/sunday-worship-service-2/2031-03-09/
LOCATION:Prince of Peace\, 5030 Hwy 70 W\, Eagle River\, WI\, 54521
END:VEVENT
END:VCALENDAR