BEGIN:VCALENDAR
VERSION:2.0
PRODID:-//Prince of Peace Lutheran Church Eagle River - ECPv6.15.20//NONSGML v1.0//EN
CALSCALE:GREGORIAN
METHOD:PUBLISH
X-ORIGINAL-URL:https://princeofpeace-er.org
X-WR-CALDESC:Events for Prince of Peace Lutheran Church Eagle River
REFRESH-INTERVAL;VALUE=DURATION:PT1H
X-Robots-Tag:noindex
X-PUBLISHED-TTL:PT1H
BEGIN:VTIMEZONE
TZID:America/Chicago
BEGIN:DAYLIGHT
TZOFFSETFROM:-0600
TZOFFSETTO:-0500
TZNAME:CDT
DTSTART:20260308T080000
END:DAYLIGHT
BEGIN:STANDARD
TZOFFSETFROM:-0500
TZOFFSETTO:-0600
TZNAME:CST
DTSTART:20261101T070000
END:STANDARD
BEGIN:DAYLIGHT
TZOFFSETFROM:-0600
TZOFFSETTO:-0500
TZNAME:CDT
DTSTART:20270314T080000
END:DAYLIGHT
BEGIN:STANDARD
TZOFFSETFROM:-0500
TZOFFSETTO:-0600
TZNAME:CST
DTSTART:20271107T070000
END:STANDARD
BEGIN:DAYLIGHT
TZOFFSETFROM:-0600
TZOFFSETTO:-0500
TZNAME:CDT
DTSTART:20280312T080000
END:DAYLIGHT
BEGIN:STANDARD
TZOFFSETFROM:-0500
TZOFFSETTO:-0600
TZNAME:CST
DTSTART:20281105T070000
END:STANDARD
END:VTIMEZONE
BEGIN:VEVENT
DTSTART;TZID=America/Chicago:20270404T090000
DTEND;TZID=America/Chicago:20270404T100000
DTSTAMP:20260424T024409
CREATED:20260324T164241Z
LAST-MODIFIED:20260324T164241Z
UID:10000645-1806829200-1806832800@princeofpeace-er.org
SUMMARY:Sunday Worship Service
DESCRIPTION:
URL:https://princeofpeace-er.org/event/sunday-worship-service-2/2027-04-04/
LOCATION:Prince of Peace\, 5030 Hwy 70 W\, Eagle River\, WI\, 54521
END:VEVENT
BEGIN:VEVENT
DTSTART;TZID=America/Chicago:20270407T093000
DTEND;TZID=America/Chicago:20270407T113000
DTSTAMP:20260424T024409
CREATED:20250514T174634Z
LAST-MODIFIED:20250514T174634Z
UID:10000257-1807090200-1807097400@princeofpeace-er.org
SUMMARY:Quilters Meet
DESCRIPTION:You don’t have to be able to sew to help out.  We can use your help tying quilts together.  These quilts are donated around the world.
URL:https://princeofpeace-er.org/event/quilters-meet-2/2027-04-07/
LOCATION:Prince of Peace\, 5030 Hwy 70 W\, Eagle River\, WI\, 54521
END:VEVENT
BEGIN:VEVENT
DTSTART;TZID=America/Chicago:20270411T090000
DTEND;TZID=America/Chicago:20270411T100000
DTSTAMP:20260424T024409
CREATED:20260324T164241Z
LAST-MODIFIED:20260324T164241Z
UID:10000646-1807434000-1807437600@princeofpeace-er.org
SUMMARY:Sunday Worship Service
DESCRIPTION:
URL:https://princeofpeace-er.org/event/sunday-worship-service-2/2027-04-11/
LOCATION:Prince of Peace\, 5030 Hwy 70 W\, Eagle River\, WI\, 54521
END:VEVENT
BEGIN:VEVENT
DTSTART;TZID=America/Chicago:20270418T090000
DTEND;TZID=America/Chicago:20270418T100000
DTSTAMP:20260424T024409
CREATED:20260324T164241Z
LAST-MODIFIED:20260324T164241Z
UID:10000647-1808038800-1808042400@princeofpeace-er.org
SUMMARY:Sunday Worship Service
DESCRIPTION:
URL:https://princeofpeace-er.org/event/sunday-worship-service-2/2027-04-18/
LOCATION:Prince of Peace\, 5030 Hwy 70 W\, Eagle River\, WI\, 54521
END:VEVENT
BEGIN:VEVENT
DTSTART;TZID=America/Chicago:20270421T093000
DTEND;TZID=America/Chicago:20270421T233000
DTSTAMP:20260424T024409
CREATED:20250514T174456Z
LAST-MODIFIED:20250514T174456Z
UID:10000198-1808299800-1808350200@princeofpeace-er.org
SUMMARY:Quilters Meet
DESCRIPTION:You don’t have to be able to sew to help out.  We can use your help in tying quilts together to be donated around the globe.
URL:https://princeofpeace-er.org/event/quilters-meet/2027-04-21/
LOCATION:Prince of Peace\, 5030 Hwy 70 W\, Eagle River\, WI\, 54521
END:VEVENT
BEGIN:VEVENT
DTSTART;TZID=America/Chicago:20270425T090000
DTEND;TZID=America/Chicago:20270425T100000
DTSTAMP:20260424T024409
CREATED:20260324T164241Z
LAST-MODIFIED:20260324T164241Z
UID:10000648-1808643600-1808647200@princeofpeace-er.org
SUMMARY:Sunday Worship Service
DESCRIPTION:
URL:https://princeofpeace-er.org/event/sunday-worship-service-2/2027-04-25/
LOCATION:Prince of Peace\, 5030 Hwy 70 W\, Eagle River\, WI\, 54521
END:VEVENT
END:VCALENDAR